BEGIN:VCALENDAR
VERSION:2.0
PRODID:-//DEGALLERY - ECPv6.15.16.1//NONSGML v1.0//EN
CALSCALE:GREGORIAN
METHOD:PUBLISH
X-ORIGINAL-URL:https://degallery.us
X-WR-CALDESC:Events for DEGALLERY
REFRESH-INTERVAL;VALUE=DURATION:PT1H
X-Robots-Tag:noindex
X-PUBLISHED-TTL:PT1H
BEGIN:VTIMEZONE
TZID:America/Chicago
BEGIN:DAYLIGHT
TZOFFSETFROM:-0600
TZOFFSETTO:-0500
TZNAME:CDT
DTSTART:20250309T080000
END:DAYLIGHT
BEGIN:STANDARD
TZOFFSETFROM:-0500
TZOFFSETTO:-0600
TZNAME:CST
DTSTART:20251102T070000
END:STANDARD
BEGIN:DAYLIGHT
TZOFFSETFROM:-0600
TZOFFSETTO:-0500
TZNAME:CDT
DTSTART:20260308T080000
END:DAYLIGHT
BEGIN:STANDARD
TZOFFSETFROM:-0500
TZOFFSETTO:-0600
TZNAME:CST
DTSTART:20261101T070000
END:STANDARD
BEGIN:DAYLIGHT
TZOFFSETFROM:-0600
TZOFFSETTO:-0500
TZNAME:CDT
DTSTART:20270314T080000
END:DAYLIGHT
BEGIN:STANDARD
TZOFFSETFROM:-0500
TZOFFSETTO:-0600
TZNAME:CST
DTSTART:20271107T070000
END:STANDARD
END:VTIMEZONE
BEGIN:VEVENT
DTSTART;TZID=America/Chicago:20260506T190000
DTEND;TZID=America/Chicago:20260506T203000
DTSTAMP:20260423T160351
CREATED:20260420T190053Z
LAST-MODIFIED:20260420T215936Z
UID:10000281-1778094000-1778099400@degallery.us
SUMMARY:Watercolor Cards for Mother’s Day Workshop
DESCRIPTION:Watercolor Cards for Mother’s Day WorkshopCreate something heartfelt and handmade \nJoin us at Degallery for a special watercolor workshop where you will design and paint your own beautiful Mother’s Day cards. This class is perfect for anyone who wants to create a meaningful\, personal gift filled with love and creativity. \nUnder the guidance of Dary Dega\, award-winning artist\, you will learn simple watercolor techniques—soft washes\, delicate florals\, and expressive details—to create unique\, elegant cards. Whether you are new to watercolor or already enjoy painting\, this workshop offers a relaxing and inspiring experience. \nCreate one-of-a-kind cards for your mom\, with your mom\, or for someone special in your life. \n✨ All materials included✨ No experience needed✨ Take home your handmade watercolor cards \nEnjoy a creative\, peaceful atmosphere and celebrate Mother’s Day through art.
URL:https://degallery.us/events/watercolor-cards-for-mothers-day-workshop/
LOCATION:DEGALLERY\, 930 N Rosemary Dr\, Bryan TX\, Bryan\, TX\, 77802\, United States
CATEGORIES:Adult Events,Events,Main,Step by Step,Workshops
ATTACH;FMTTYPE=image/png:https://degallery.us/wp-content/uploads/2026/04/1a806814-6e19-44d2-8391-f1f0ee611262.png
ORGANIZER;CN="DEGALLERY":MAILTO:contact@degallery.us
END:VEVENT
BEGIN:VEVENT
DTSTART;TZID=America/Chicago:20260508T180000
DTEND;TZID=America/Chicago:20260508T200000
DTSTAMP:20260423T160351
CREATED:20260420T185237Z
LAST-MODIFIED:20260420T185237Z
UID:10000280-1778263200-1778270400@degallery.us
SUMMARY:Mother’s Day Step-by-Step Acrylic Workshop & pARTy
DESCRIPTION:Mother’s Day Step-by-Step Acrylic Workshop & pARTyCreate. Celebrate. Connect. \nCelebrate Mother’s Day in a creative and meaningful way at Degallery. Join us for a special step-by-step acrylic painting workshop where you will create a beautiful floral artwork—perfect as a heartfelt gift or a shared experience with your mom. \nWhether you are an experienced artist or picking up a brush for the first time\, this guided class will lead you through the process with ease and inspiration. Together\, we will explore color\, composition\, and expressive brushwork while creating elegant flowers on canvas. \nBring your mom\, come with a friend\, or enjoy a peaceful creative moment for yourself. This workshop is designed to be relaxing\, joyful\, and memorable. \nWine and finger food complimentary to make the evening even more special. \nInstructor: Dary Dega\, award-winning artistKnown for her expressive style and inspiring teaching approach\, Dary will guide you step-by-step to help you create a painting you’ll be proud of. \n✨ All materials included✨ No experience needed✨ Take home your finished artwork \nMake this Mother’s Day truly unforgettable—through art\, connection\, and creativity.
URL:https://degallery.us/events/mothers-day-step-by-step-acrylic-workshop-party/
LOCATION:DEGALLERY\, 930 N Rosemary Dr\, Bryan TX\, Bryan\, TX\, 77802\, United States
CATEGORIES:Adult Events,Events,Step by Step,Workshops
ATTACH;FMTTYPE=image/png:https://degallery.us/wp-content/uploads/2026/04/86066102-7840-4c84-8871-b07bddb00b66.png
ORGANIZER;CN="DEGALLERY":MAILTO:contact@degallery.us
END:VEVENT
END:VCALENDAR