BEGIN:VCALENDAR
VERSION:2.0
PRODID:-//DEGALLERY - ECPv6.15.16.1//NONSGML v1.0//EN
CALSCALE:GREGORIAN
METHOD:PUBLISH
X-WR-CALNAME:DEGALLERY
X-ORIGINAL-URL:https://degallery.us
X-WR-CALDESC:Events for DEGALLERY
REFRESH-INTERVAL;VALUE=DURATION:PT1H
X-Robots-Tag:noindex
X-PUBLISHED-TTL:PT1H
BEGIN:VTIMEZONE
TZID:America/Chicago
BEGIN:DAYLIGHT
TZOFFSETFROM:-0600
TZOFFSETTO:-0500
TZNAME:CDT
DTSTART:20250309T080000
END:DAYLIGHT
BEGIN:STANDARD
TZOFFSETFROM:-0500
TZOFFSETTO:-0600
TZNAME:CST
DTSTART:20251102T070000
END:STANDARD
BEGIN:DAYLIGHT
TZOFFSETFROM:-0600
TZOFFSETTO:-0500
TZNAME:CDT
DTSTART:20260308T080000
END:DAYLIGHT
BEGIN:STANDARD
TZOFFSETFROM:-0500
TZOFFSETTO:-0600
TZNAME:CST
DTSTART:20261101T070000
END:STANDARD
BEGIN:DAYLIGHT
TZOFFSETFROM:-0600
TZOFFSETTO:-0500
TZNAME:CDT
DTSTART:20270314T080000
END:DAYLIGHT
BEGIN:STANDARD
TZOFFSETFROM:-0500
TZOFFSETTO:-0600
TZNAME:CST
DTSTART:20271107T070000
END:STANDARD
END:VTIMEZONE
BEGIN:VEVENT
DTSTART;TZID=America/Chicago:20260428T180000
DTEND;TZID=America/Chicago:20260428T210000
DTSTAMP:20260423T144235
CREATED:20251105T011632Z
LAST-MODIFIED:20260421T144133Z
UID:10000257-1777399200-1777410000@degallery.us
SUMMARY:Open Studio with Live Model
DESCRIPTION:OPEN STUDIO WITH LIVE MODEL \nThe next session will be on November 25 and  will continuing every other Tuesday. \n\n• Time: 6:00PM – 9:00PM\n• Price: $10/ Per session (with instruction/critique $15)\nYour Host: T.W. ‘Pops’ Vanya – Long time local artist and award winning painter will\nbe conducting these evening sessions. He brings years of experience and will give\nfeedback or critiques and instruction if asked during or after each session if\nparticipants request. \n• Who to Contact if you have questions:\nFeel free to call or email TW ‘Pops’ Vanya during\nregular business hours – 10:00 AM – 4:00PM\n• Email: tim@twvanyafineart.com\n• Cell: (979) 324-6037 \nCONTACT US IF YOU WANT TO BE A MODEL: contact@degallery.us
URL:https://degallery.us/events/open-studio-with-live-model-27/
LOCATION:DEGALLERY\, 930 N Rosemary Dr\, Bryan TX\, Bryan\, TX\, 77802\, United States
CATEGORIES:Adult Events,Events,Main,Workshops
ATTACH;FMTTYPE=image/png:https://degallery.us/wp-content/uploads/2026/02/open-studio-with-model.png
END:VEVENT
BEGIN:VEVENT
DTSTART;TZID=America/Chicago:20260502T110000
DTEND;TZID=America/Chicago:20260502T160000
DTSTAMP:20260423T144235
CREATED:20260205T033353Z
LAST-MODIFIED:20260407T193523Z
UID:10000273-1777719600-1777737600@degallery.us
SUMMARY:First Saturday Art Fair and Jazz on the Grass
DESCRIPTION:Inviting all families\, artists & musicians\nto join us & participate in the FIRST SATURDAY ART FAIRE at DEGALLERY SQUARE\nWith International Artists! \n12 p.m. – 4 p.m. 1st Saturdays at Degallery Square\, 930 N Rosemary Dr\, Bryan TX \n\n \n\n\n\n\nThe First Saturday Art Fair is a unique public outdoor family event at Degallery Square with live music (Professional Jazz Bend)\, art activities for kids (crafting/painting table)\, Art vendors\, and an Artists’ demo! \nIn Program:\n12:00 am -4:00 pm Art Fair with Vendors and Crafting Activities for Kids.\n9:00 am – 1:00 pm art classes walk in for kids\nAll Artworks Inside Degallery during the First Saturday Art Fair are for sale with a discount of 20% OFF.\n \nIf you are interested in participating\, please contact us\n \nTHE EVENT WILL TAKE PLACE REGARDLESS OF WEATHER CONDITIONS!
URL:https://degallery.us/events/first-saturday-art-fair-and-jazz-on-the-grass/
LOCATION:DEGALLERY\, 930 N Rosemary Dr\, Bryan TX\, Bryan\, TX\, 77802\, United States
CATEGORIES:Events,Main
ATTACH;FMTTYPE=image/png:https://degallery.us/wp-content/uploads/2025/08/vxKGuAaf_400x400-1.png
ORGANIZER;CN="DEGALLERY":MAILTO:contact@degallery.us
END:VEVENT
BEGIN:VEVENT
DTSTART;TZID=America/Chicago:20260502T123000
DTEND;TZID=America/Chicago:20260502T160000
DTSTAMP:20260423T144235
CREATED:20250210T040947Z
LAST-MODIFIED:20260407T191836Z
UID:10000225-1777725000-1777737600@degallery.us
SUMMARY:“Colorful Shells” Pastel Workshop with pastel artist Tetyana Aleksenko.
DESCRIPTION:“Colorful Shells” Pastel Workshop with pastel artist Tetyana Aleksenko.\nDuring a workshop with Tetyana Aleksenko we will learn how to paint beautiful shells on black background with hard and soft pastels and pastel pencils. We will learn how to achieve striking contrast by using bright colors and how to use the texture of the paper to our advantage. Students will have an option either to transfer the image or to draw the shell freehand. All supplies included.
URL:https://degallery.us/events/colorful-shells-pastel-workshop-with-pastel-artist-tetyana-aleksenko/
LOCATION:DEGALLERY\, 930 N Rosemary Dr\, Bryan TX\, Bryan\, TX\, 77802\, United States
CATEGORIES:Adult Events,Events,Main,Step by Step,Workshops
ATTACH;FMTTYPE=image/jpeg:https://degallery.us/wp-content/uploads/2025/02/yellow-shell-Aleksenko.jpg
ORGANIZER;CN="DEGALLERY":MAILTO:contact@degallery.us
END:VEVENT
BEGIN:VEVENT
DTSTART;TZID=America/Chicago:20260502T160000
DTEND;TZID=America/Chicago:20260502T180000
DTSTAMP:20260423T144235
CREATED:20260407T194203Z
LAST-MODIFIED:20260407T194203Z
UID:10000279-1777737600-1777744800@degallery.us
SUMMARY:Opening Reception for our VAS Spring Judged Art Show\, “America the Beautiful”
DESCRIPTION:Join us for the Opening Reception for our VAS Spring Judged Art Show\, “America the Beautiful” at Degallery\, Saturday\, May 2\, 2025  4-6pm.  Everyone is invited to attend. Come see the wide range of incredible art from local artists! Great refreshments! Free and open to the public! Vote for your favorite art.  Do you agree with the judges?  The show runs from May 2 – 29\, 2026. We will have a People’s Choice Award Party on Friday\, May 29 6-8pm when the three most popular artworks will be announced. \nIf you are reading this before April 20\, all artists are welcome to enter the show.  Go HERE for more information.
URL:https://degallery.us/events/opening-reception-for-our-vas-spring-judged-art-show-america-the-beautiful/
LOCATION:DEGALLERY\, 930 N Rosemary Dr\, Bryan TX\, Bryan\, TX\, 77802\, United States
CATEGORIES:Events
ATTACH;FMTTYPE=image/webp:https://degallery.us/wp-content/uploads/2026/04/Pics-long-reception-845x321-1.webp
ORGANIZER;CN="DEGALLERY":MAILTO:contact@degallery.us
END:VEVENT
END:VCALENDAR