BEGIN:VCALENDAR
VERSION:2.0
PRODID:-//DEGALLERY - ECPv6.15.16.1//NONSGML v1.0//EN
CALSCALE:GREGORIAN
METHOD:PUBLISH
X-WR-CALNAME:DEGALLERY
X-ORIGINAL-URL:https://degallery.us
X-WR-CALDESC:Events for DEGALLERY
REFRESH-INTERVAL;VALUE=DURATION:PT1H
X-Robots-Tag:noindex
X-PUBLISHED-TTL:PT1H
BEGIN:VTIMEZONE
TZID:America/Chicago
BEGIN:DAYLIGHT
TZOFFSETFROM:-0600
TZOFFSETTO:-0500
TZNAME:CDT
DTSTART:20240310T080000
END:DAYLIGHT
BEGIN:STANDARD
TZOFFSETFROM:-0500
TZOFFSETTO:-0600
TZNAME:CST
DTSTART:20241103T070000
END:STANDARD
BEGIN:DAYLIGHT
TZOFFSETFROM:-0600
TZOFFSETTO:-0500
TZNAME:CDT
DTSTART:20250309T080000
END:DAYLIGHT
BEGIN:STANDARD
TZOFFSETFROM:-0500
TZOFFSETTO:-0600
TZNAME:CST
DTSTART:20251102T070000
END:STANDARD
BEGIN:DAYLIGHT
TZOFFSETFROM:-0600
TZOFFSETTO:-0500
TZNAME:CDT
DTSTART:20260308T080000
END:DAYLIGHT
BEGIN:STANDARD
TZOFFSETFROM:-0500
TZOFFSETTO:-0600
TZNAME:CST
DTSTART:20261101T070000
END:STANDARD
END:VTIMEZONE
BEGIN:VEVENT
DTSTART;TZID=America/Chicago:20251031T193000
DTEND;TZID=America/Chicago:20251031T203000
DTSTAMP:20260423T184749
CREATED:20251006T214704Z
LAST-MODIFIED:20260127T162359Z
UID:10000213-1761939000-1761942600@degallery.us
SUMMARY:COSPLAY PARTY
DESCRIPTION:We are excited to announce a COSPLAY PARTY on Friday\, the 31st\, starting at 7:30 pm.  \n The entrance to this event is completely free\, so feel free to join us.  Come dressed in your favorite cosplay outfit and prepare to have a fantastic evening.  We look forward to seeing all the amazing costumes and enjoying your company.  Get ready for a night filled with fun watching Anime\, drawing and Chit chatting. \n This event is for teenagers and up! 
URL:https://degallery.us/events/cosplay-party/
LOCATION:TX
CATEGORIES:Events,Main
ATTACH;FMTTYPE=image/png:https://degallery.us/wp-content/uploads/2025/10/5798580113904633629.png
END:VEVENT
BEGIN:VEVENT
DTSTART;TZID=America/Chicago:20251101T110000
DTEND;TZID=America/Chicago:20251101T150000
DTSTAMP:20260423T184749
CREATED:20250802T210133Z
LAST-MODIFIED:20260127T162359Z
UID:10000199-1761994800-1762009200@degallery.us
SUMMARY:First Saturday Art Market
DESCRIPTION:Inviting all families\, artists & musicians\nto join us & participate in the FIRST SATURDAY ART FAIRE at DEGALLERY SQUARE\nWith International Artists! \n11 a.m. – 3 p.m. 1st Saturdays at Degallery Square\, 930 N Rosemary Dr\, Bryan TX \n\n \n\n\n\n\nThe First Saturday Art Fair is a unique public outdoor family event at Degallery Square with live music (Professional Jazz Bend)\, art activities for kids (crafting/painting table)\, Art vendors\, and an Artists’ demo! \nIn Program:\n11:00 am -3:00 pm Art Fair with Vendors and Crafting Activities for Kids.\n9:00 am – 1:00 pm art classes walk in for kids\nAll Artworks Inside Degallery during the First Saturday Art Fair are for sale with a discount of 20% OFF.\n \nIf you are interested in participating\, please contact us\n \nTHE EVENT WILL TAKE PLACE REGARDLESS OF WEATHER CONDITIONS!
URL:https://degallery.us/events/first-saturday-art-market-7/
LOCATION:DEGALLERY\, 930 N Rosemary Dr\, Bryan TX\, Bryan\, TX\, 77802\, United States
CATEGORIES:Events,Main
ATTACH;FMTTYPE=image/jpeg:https://degallery.us/wp-content/uploads/2025/08/art-market.jpg
ORGANIZER;CN="DEGALLERY":MAILTO:contact@degallery.us
END:VEVENT
BEGIN:VEVENT
DTSTART;TZID=America/Chicago:20251101T140000
DTEND;TZID=America/Chicago:20251101T160000
DTSTAMP:20260423T184749
CREATED:20251030T002640Z
LAST-MODIFIED:20260127T162359Z
UID:10000254-1762005600-1762012800@degallery.us
SUMMARY:Opening Reception of the New Art Show by Jaimie Ladysh and Donna Dangott ‘OTHERWORLDS: The Alchemy of Place & Presence’.
DESCRIPTION:You are invited to the Opening Reception of the New Art Show by Jaimie Ladysh and Donna Dangott ‘OTHERWORLDS: The Alchemy of Place & Presence’.Opening reception on November 1st from 2 to 4 PM at Degallery. 
URL:https://degallery.us/events/opening-reception-of-the-new-art-show-by-jaimie-ladysh-and-donna-dangott-otherworlds-the-alchemy-of-place-presence/
LOCATION:TX
CATEGORIES:Events,Main
ATTACH;FMTTYPE=image/jpeg:https://degallery.us/wp-content/uploads/2025/10/568446695_1409237077869119_5609092376306217553_n.jpg
END:VEVENT
END:VCALENDAR