BEGIN:VCALENDAR
VERSION:2.0
PRODID:-//DEGALLERY - ECPv6.15.16.1//NONSGML v1.0//EN
CALSCALE:GREGORIAN
METHOD:PUBLISH
X-ORIGINAL-URL:https://degallery.us
X-WR-CALDESC:Events for DEGALLERY
REFRESH-INTERVAL;VALUE=DURATION:PT1H
X-Robots-Tag:noindex
X-PUBLISHED-TTL:PT1H
BEGIN:VTIMEZONE
TZID:America/Chicago
BEGIN:DAYLIGHT
TZOFFSETFROM:-0600
TZOFFSETTO:-0500
TZNAME:CDT
DTSTART:20240310T080000
END:DAYLIGHT
BEGIN:STANDARD
TZOFFSETFROM:-0500
TZOFFSETTO:-0600
TZNAME:CST
DTSTART:20241103T070000
END:STANDARD
BEGIN:DAYLIGHT
TZOFFSETFROM:-0600
TZOFFSETTO:-0500
TZNAME:CDT
DTSTART:20250309T080000
END:DAYLIGHT
BEGIN:STANDARD
TZOFFSETFROM:-0500
TZOFFSETTO:-0600
TZNAME:CST
DTSTART:20251102T070000
END:STANDARD
BEGIN:DAYLIGHT
TZOFFSETFROM:-0600
TZOFFSETTO:-0500
TZNAME:CDT
DTSTART:20260308T080000
END:DAYLIGHT
BEGIN:STANDARD
TZOFFSETFROM:-0500
TZOFFSETTO:-0600
TZNAME:CST
DTSTART:20261101T070000
END:STANDARD
END:VTIMEZONE
BEGIN:VEVENT
DTSTART;TZID=America/Chicago:20250905T180000
DTEND;TZID=America/Chicago:20250905T200000
DTSTAMP:20260424T022637
CREATED:20250829T140308Z
LAST-MODIFIED:20260127T162401Z
UID:10000203-1757095200-1757102400@degallery.us
SUMMARY:Opening Reception: VAS Member Show 2025 “Chiaroscuro: Interplay of Light and Shadow”
DESCRIPTION:Opening Reception: VAS Member Show 2025 “Chiaroscuro: Interplay of Light and Shadow”\n\nSeptember 5 @ 6:00 pm – 8:00 pm at Degallery\n\n\n\nJoin us for the Opening Reception for our VAS Fall Member Art Show\, “Chiaroscuro: Interplay of Light and Shadow” at Degallery\, Friday\, September 5\, 2025  6-8pm.  Everyone is invited to attend. Come see the wide range of incredible art from local artists! Great refreshments! Free and open to the public! Vote for your favorite art all month.  Winners will be announced at our Closing Reception on September 26.  The show runs from September 5-26\, 2025.
URL:https://degallery.us/events/opening-reception-vas-member-show-2025-chiaroscuro-interplay-of-light-and-shadow/
LOCATION:DEGALLERY\, 930 N Rosemary Dr\, Bryan TX\, Bryan\, TX\, 77802\, United States
CATEGORIES:Events,Main
ATTACH;FMTTYPE=image/webp:https://degallery.us/wp-content/uploads/2025/08/Member-show2-skinny-845x321.jpg.webp
ORGANIZER;CN="DEGALLERY":MAILTO:contact@degallery.us
END:VEVENT
BEGIN:VEVENT
DTSTART;TZID=America/Chicago:20250906T110000
DTEND;TZID=America/Chicago:20250906T150000
DTSTAMP:20260424T022637
CREATED:20250802T205314Z
LAST-MODIFIED:20260127T162401Z
UID:10000195-1757156400-1757170800@degallery.us
SUMMARY:First Saturday Art Fair
DESCRIPTION:Inviting all families\, artists & musicians\nto join us & participate in the FIRST SATURDAY ART FAIRE at DEGALLERY SQUARE\nWith International Artists! \n11 a.m. – 3 p.m. 1st Saturdays at Degallery Square\, 930 N Rosemary Dr\, Bryan TX \n\n \n\n\n\n\nThe First Saturday Art Fair is a unique public outdoor family event at Degallery Square with live music (Professional Jazz Bend)\, art activities for kids (crafting/painting table)\, Art vendors\, and an Artists’ demo! \nIn Program:\n11:00 am -3:00 pm Art Fair with Vendors and Crafting Activities for Kids.\n9:00 am – 1:00 pm art classes walk in for kids\nAll Artworks Inside Degallery during the First Saturday Art Fair are for sale with a discount of 20% OFF.\n \nIf you are interested in participating\, please contact us\n \nTHE EVENT WILL TAKE PLACE REGARDLESS OF WEATHER CONDITIONS!
URL:https://degallery.us/events/first-saturday-art-fair-19/
LOCATION:DEGALLERY\, 930 N Rosemary Dr\, Bryan TX\, Bryan\, TX\, 77802\, United States
CATEGORIES:Adult Events,Events,Main
ATTACH;FMTTYPE=image/jpeg:https://degallery.us/wp-content/uploads/2025/08/img160149922238018399.jpg
ORGANIZER;CN="DEGALLERY":MAILTO:contact@degallery.us
END:VEVENT
END:VCALENDAR