BEGIN:VCALENDAR
VERSION:2.0
PRODID:-//DEGALLERY - ECPv6.15.16.1//NONSGML v1.0//EN
CALSCALE:GREGORIAN
METHOD:PUBLISH
X-ORIGINAL-URL:https://degallery.us
X-WR-CALDESC:Events for DEGALLERY
REFRESH-INTERVAL;VALUE=DURATION:PT1H
X-Robots-Tag:noindex
X-PUBLISHED-TTL:PT1H
BEGIN:VTIMEZONE
TZID:America/Chicago
BEGIN:DAYLIGHT
TZOFFSETFROM:-0600
TZOFFSETTO:-0500
TZNAME:CDT
DTSTART:20240310T080000
END:DAYLIGHT
BEGIN:STANDARD
TZOFFSETFROM:-0500
TZOFFSETTO:-0600
TZNAME:CST
DTSTART:20241103T070000
END:STANDARD
BEGIN:DAYLIGHT
TZOFFSETFROM:-0600
TZOFFSETTO:-0500
TZNAME:CDT
DTSTART:20250309T080000
END:DAYLIGHT
BEGIN:STANDARD
TZOFFSETFROM:-0500
TZOFFSETTO:-0600
TZNAME:CST
DTSTART:20251102T070000
END:STANDARD
BEGIN:DAYLIGHT
TZOFFSETFROM:-0600
TZOFFSETTO:-0500
TZNAME:CDT
DTSTART:20260308T080000
END:DAYLIGHT
BEGIN:STANDARD
TZOFFSETFROM:-0500
TZOFFSETTO:-0600
TZNAME:CST
DTSTART:20261101T070000
END:STANDARD
END:VTIMEZONE
BEGIN:VEVENT
DTSTART;TZID=America/Chicago:20251201T180000
DTEND;TZID=America/Chicago:20251201T200000
DTSTAMP:20260423T160714
CREATED:20251121T163308Z
LAST-MODIFIED:20260127T162358Z
UID:10000260-1764612000-1764619200@degallery.us
SUMMARY:Holiday Harmony at Degallery!
DESCRIPTION:🎶 Holiday Harmony at Degallery!\nCelebrate the start of the season with a special holiday concert featuring the talented singers from Texas A&M’s new Music Performance Program! Join us on December 1st at Degallery for an evening of festive music\, showcasing the exceptional vocal talent emerging from this exciting new program. Don’t miss this opportunity to hear classic holiday favorites performed live in an intimate setting and support the future stars of Aggie music! \nAdmission is FREE. \nWe are Open for Public! 
URL:https://degallery.us/events/holiday-harmony-at-degallery/
LOCATION:DEGALLERY\, 930 N Rosemary Dr\, Bryan TX\, Bryan\, TX\, 77802\, United States
CATEGORIES:Events,Main
ATTACH;FMTTYPE=image/png:https://degallery.us/wp-content/uploads/2025/11/thumbnail_IMG_8430.png
ORGANIZER;CN="DEGALLERY":MAILTO:contact@degallery.us
END:VEVENT
BEGIN:VEVENT
DTSTART;TZID=America/Chicago:20251206T120000
DTEND;TZID=America/Chicago:20251206T160000
DTSTAMP:20260423T160714
CREATED:20250802T210348Z
LAST-MODIFIED:20260127T162357Z
UID:10000201-1765022400-1765036800@degallery.us
SUMMARY:First Saturday Christmas Art Market
DESCRIPTION:Inviting all families\, artists & musicians\nto join us & participate in the FIRST SATURDAY ART FAIRE at DEGALLERY SQUARE\nWith International Artists! \n12 p.m. – 4 p.m. 1st Saturdays at Degallery Square\, 930 N Rosemary Dr\, Bryan TX \n\n \n\n\n\n\nThe First Saturday Art Fair is a unique public outdoor family event at Degallery Square with live music (Professional Jazz Bend)\, art activities for kids (crafting/painting table)\, Art vendors\, and an Artists’ demo! \nIn Program:\n12:00 pm -4:00 pm Art Fair with Vendors and Crafting Activities for Kids.\n9:00 am – 1:00 pm art classes walk in for kids\nAll Artworks Inside Degallery during the First Saturday Art Fair are for sale with a discount of 20% OFF.\n \nIf you are interested in participating\, please contact us\n \nTHE EVENT WILL TAKE PLACE REGARDLESS OF WEATHER CONDITIONS!
URL:https://degallery.us/events/first-saturday-christmas-art-market/
LOCATION:DEGALLERY\, 930 N Rosemary Dr\, Bryan TX\, Bryan\, TX\, 77802\, United States
CATEGORIES:Events,Main
ATTACH;FMTTYPE=image/jpeg:https://degallery.us/wp-content/uploads/2025/08/IMG_20201112_105930_90320706.jpg
ORGANIZER;CN="DEGALLERY":MAILTO:contact@degallery.us
END:VEVENT
BEGIN:VEVENT
DTSTART;TZID=America/Chicago:20251206T123000
DTEND;TZID=America/Chicago:20251206T143000
DTSTAMP:20260423T160714
CREATED:20251126T005519Z
LAST-MODIFIED:20260127T162357Z
UID:10000263-1765024200-1765031400@degallery.us
SUMMARY:First Saturday Series "Jazz on the Grass\, Christmas Music".
DESCRIPTION:Ready for Live Jazz at Degallery – First Saturday Series “Jazz on the Grass\, Christmas Music”.\nDegallery (930 North Rosemary Dr.\, Bryan\, TX). Admission FREE.\nMark your calendars for October 4\, 2025! Degallery is thrilled to unveil an exhilarating new event addition to our monthly First Saturday Art Fair. Get ready to groove to the rhythm of live jazz music every First Saturday from 12:30 a.m. to 2:30 p.m. on the gallery lawn\, where art and creativity come alive!\nBring your folding chairs or cozy blankets\, kick back on the lush grass\, and soak up the vibrant community spirit. To make it even sweeter\, we’ll provide complimentary snacks to fuel your enjoyment! This family-friendly event brings together music\, art\, and an amazing sense of fellowship\, ensuring that there’s something for everyone.\nJoin us for this recurring series that promises to elevate the cultural scene in Bryan–College Station. Don’t miss out on the fun—come be a part of something special!  \nSee less
URL:https://degallery.us/events/first-saturday-series-jazz-on-the-grass-christmas-music/
LOCATION:DEGALLERY\, 930 N Rosemary Dr\, Bryan TX\, Bryan\, TX\, 77802\, United States
CATEGORIES:Events,Main
ATTACH;FMTTYPE=image/jpeg:https://degallery.us/wp-content/uploads/2025/11/585010047_1438069388319221_130179072610209712_n.jpg
ORGANIZER;CN="DEGALLERY":MAILTO:contact@degallery.us
END:VEVENT
BEGIN:VEVENT
DTSTART;TZID=America/Chicago:20251206T140000
DTEND;TZID=America/Chicago:20251206T160000
DTSTAMP:20260423T160714
CREATED:20251126T003910Z
LAST-MODIFIED:20260127T162357Z
UID:10000262-1765029600-1765036800@degallery.us
SUMMARY:Opening Reception of a unique solo show "CONNECTION OF TIMES"
DESCRIPTION:You are invited to an Opening Reception of a unique solo show “CONNECTION OF TIMES”\, the first in Texas\, by Russian Artist Alexander Gorelov.\nDecember 6\, Saturday\, 2-4 pm at Degallery. \nArtist Biography: Alexander Gorelov\nBorn on November 22\, 1958\, in the northern town of Khanty-Mansiysk\, Russian artist Alexander Gorelov has spent a lifetime shaped by landscapes\, traditions\, and the deep rhythms of nature. His early artistic training began in a children’s art school\, where the vast Siberian scenery—floodplains of the Ob and Irtysh Rivers\, low mountain ridges crowned with ancient cedars\, and sun-lit sandbanks scattered with rounded stones—formed his first visual language. Guided by his teacher\, Nikolai Dmitrievich Ivanov\, Gorelov learned to observe nature with precision and tenderness\, painting long plein-air sessions that nurtured his love of the natural world. \nIn 1976\, Gorelov entered the Ural School of Applied Arts\, a transformative environment filled with stone-cutting studios\, metalworking workshops\, and walls adorned with mosaics\, frescoes\, and student copies of Renaissance masterpieces. The creative energy of the Urals—its craftsmanship\, materials\, and artistic heritage—became a formative chapter in his development. From 1977 to 1979\, he served in the Soviet Army\, and in 1982 he completed his studies at the Ural School. \nAnother turning point came with the Krasnoyarsk State Art Institute\, where he studied from 1986 to 1991. The Yenisei River region\, with its dramatic shift from steep forested cliffs to quiet steppes framed by the Sayan Mountains\, offered an entirely new palette of inspiration. Ancient burial mounds\, menhirs\, stone carvings\, and petroglyphs—traces of civilizations thousands of years old—deepened his fascination with mystery\, time\, and the spiritual dimensions of landscape. In 2002\, he became a member of the Union of Artists of Russia\, exhibiting widely at regional and national levels. \nIn 2015\, Gorelov moved to Texas\, where he continues his artistic practice from his home studio. The landscapes of Texas—particularly the sprawling oak trees—gave him an immediate sense of belonging. Standing beneath an ancient oak\, protected from the sun\, he writes\, “I feel at peace. I’m home.” The discovery of fossilized shells in a nearby stream awakened the same sense of deep time that first inspired him along the Yenisei. Texas became not only a new home\, but a new artistic chapter filled with light\, warmth\, and possibility. \n\nArtist Statement\nI have always experienced art as a form of communication—an exchange carried through images\, symbols\, and the quiet language of nature. My childhood memories\, the wild landscapes of Siberia\, and the ancient worlds along the Yenisei continue to live within my work. The mysterious\, the majestic\, and the timeless all speak to me\, shaping my artistic vision. \nCreativity remains\, for me\, a profound mystery. In the studio\, childhood impressions\, new ideas\, and years of artistic study combine naturally—without effort\, as though they know their place on the canvas. My paintings are not monumental works intended for palaces or public halls. Instead\, they are intimate in scale\, created for homes and for thoughtful viewers who love nature\, silence\, and reflection—for romantics who seek beauty in the quiet details of the world. \nIn Texas\, I found a landscape that resonates deeply with my inner world. The ancient oak trees\, the traces of prehistoric life found in the earth\, and the vast sense of time fuel my imagination and inspire new artistic ideas. When I paint\, I feel these layers of time merging—Siberia\, the Urals\, the Yenisei\, and Texas—forming a single\, continuous story. \nMy exhibition is an invitation to step into this story: a personal vision shaped by nature\, memory\, and the universal human desire to find meaning in the world around us.
URL:https://degallery.us/events/opening-reception-of-a-unique-solo-show-connection-of-times/
LOCATION:DEGALLERY\, 930 N Rosemary Dr\, Bryan TX\, Bryan\, TX\, 77802\, United States
CATEGORIES:Events,Main
ATTACH;FMTTYPE=image/jpeg:https://degallery.us/wp-content/uploads/2025/11/thumbnail_1369.jpg
ORGANIZER;CN="DEGALLERY":MAILTO:contact@degallery.us
END:VEVENT
BEGIN:VEVENT
DTSTART;TZID=America/Chicago:20251212T190000
DTEND;TZID=America/Chicago:20251212T210000
DTSTAMP:20260423T160714
CREATED:20251119T232902Z
LAST-MODIFIED:20260127T162357Z
UID:10000259-1765566000-1765573200@degallery.us
SUMMARY:Slavic New Year
DESCRIPTION:Dear Friends\, \nWe warmly invite you to celebrate Slavic New Year traditions with us at DEGALLERY on Friday\, December 12\, beginning at 7:00 PM. \nThis family-friendly evening will blend art\, community\, and beloved Eastern European holiday customs. Please bring your loved ones and enjoy our festive program\, which includes: \n\n\nNew Year Salad Contest – Eastern European StyleWe invite everyone to participate with their favorite traditional salad—Olivier\, “Shuba\,” vinaigrette\, or any creative variation you love. Our guests will serve as the judges\, tasting each dish and voting for their favorite. A special prize awaits the winner. \n\n\nDed Moroz with Gifts for ChildrenContinuing the Slavic New Year tradition\, Ded Moroz will visit with presents for all children. Each child may prepare a short poem or song (one performance per child\, up to two minutes). \n\n\n80s DiscoAn energetic mix of music to keep everyone dancing and to carry the spirit of celebration late into the evening. \n\n\nTickets must be purchased in advance online. Please note that tickets will not be sold at the gallery on the day of the event. The final day to purchase tickets is the morning of December 11. \nTicket Prices: \n\n\nChildren (under 16): $10 — includes a gift \n\n\nAdults: $15 \n\n\nWe look forward to celebrating Slavic New Year with you and sharing a joyful evening of Eastern European flavors\, music\, and holiday traditions. \n  \nДорогие друзья! Мы приглашаем Вас отметить традиционно Новый год Вместе. Наш праздник пройдет в DEGALLERY  12 декабря\, Пятница. Начало праздника в 19.00 \nМы хотим сделать этот праздник веселым и интересным для всех. Приходите всей семьей! В нашей программе: – традиционный конкурс на лучший новогодний салат Мы приглашаем всех желающих принять участие в этом конкурсе. Члены жюри – все наши гости. Каждый сможет попробовать и проголосовать. Победителям приз! – Дед мороз с подарками для всех детей (готовте стих или песню для Деда мороза). Пожалуйста не больше 1 номера и 2 минут на ребенка. –Дискотека 80-х Билеты можно купить заранее онлайн. Билеты в галерее в день мероприятия продаваться не будут. Пожалуйста покупайте билеты заранее. Последний день продажи билетов утро 11 декабря. \nСтоимость: дети (до 16 лет) – $10 (с подарком)\, взрослые – $15
URL:https://degallery.us/events/slavic-new-year/
LOCATION:DEGALLERY\, 930 N Rosemary Dr\, Bryan TX\, Bryan\, TX\, 77802\, United States
CATEGORIES:Events,Main
ATTACH;FMTTYPE=image/jpeg:https://degallery.us/wp-content/uploads/2025/11/НОВЫЙ-ГОД.jpg
ORGANIZER;CN="DEGALLERY":MAILTO:contact@degallery.us
END:VEVENT
END:VCALENDAR