BEGIN:VCALENDAR
VERSION:2.0
PRODID:-//DEGALLERY - ECPv6.15.16.1//NONSGML v1.0//EN
CALSCALE:GREGORIAN
METHOD:PUBLISH
X-WR-CALNAME:DEGALLERY
X-ORIGINAL-URL:https://degallery.us
X-WR-CALDESC:Events for DEGALLERY
REFRESH-INTERVAL;VALUE=DURATION:PT1H
X-Robots-Tag:noindex
X-PUBLISHED-TTL:PT1H
BEGIN:VTIMEZONE
TZID:America/Chicago
BEGIN:DAYLIGHT
TZOFFSETFROM:-0600
TZOFFSETTO:-0500
TZNAME:CDT
DTSTART:20240310T080000
END:DAYLIGHT
BEGIN:STANDARD
TZOFFSETFROM:-0500
TZOFFSETTO:-0600
TZNAME:CST
DTSTART:20241103T070000
END:STANDARD
BEGIN:DAYLIGHT
TZOFFSETFROM:-0600
TZOFFSETTO:-0500
TZNAME:CDT
DTSTART:20250309T080000
END:DAYLIGHT
BEGIN:STANDARD
TZOFFSETFROM:-0500
TZOFFSETTO:-0600
TZNAME:CST
DTSTART:20251102T070000
END:STANDARD
BEGIN:DAYLIGHT
TZOFFSETFROM:-0600
TZOFFSETTO:-0500
TZNAME:CDT
DTSTART:20260308T080000
END:DAYLIGHT
BEGIN:STANDARD
TZOFFSETFROM:-0500
TZOFFSETTO:-0600
TZNAME:CST
DTSTART:20261101T070000
END:STANDARD
END:VTIMEZONE
BEGIN:VEVENT
DTSTART;TZID=America/Chicago:20250503T113000
DTEND;TZID=America/Chicago:20250503T143000
DTSTAMP:20260423T162209
CREATED:20250312T210006Z
LAST-MODIFIED:20260127T162405Z
UID:10000233-1746271800-1746282600@degallery.us
SUMMARY:Fashion Design Workshop
DESCRIPTION:Do you want to learn to sew your own clothing and create really cool\, well fitted pieces? \nWell you can in our Fashion Design Classes ! \nWhether you’re interested in fashion design\, clothing construction or sewing your own clothing\, these courses will provide you with a solid foundation in technique and assist with helping you develop your own aesthetic. With any array of supplied patterns and clothing classes offered students have the opportunity to gain experience with a variety of fabrics like sheer\, stretch\, knits and more! \nEvery Second Saturday from 11:30 am to 2:30 pm \n$50/workshop
URL:https://degallery.us/events/fashion-design-workshop-2/
LOCATION:DEGALLERY\, 930 N Rosemary Dr\, Bryan TX\, Bryan\, TX\, 77802\, United States
CATEGORIES:Adult Events,Events,Main,Step by Step,Workshops
ATTACH;FMTTYPE=image/jpeg:https://degallery.us/wp-content/uploads/2025/03/Fashion-desighn.jpg
ORGANIZER;CN="DEGALLERY":MAILTO:contact@degallery.us
END:VEVENT
BEGIN:VEVENT
DTSTART;TZID=America/Chicago:20250503T110000
DTEND;TZID=America/Chicago:20250503T160000
DTSTAMP:20260423T162209
CREATED:20250217T231455Z
LAST-MODIFIED:20260127T162406Z
UID:10000228-1746270000-1746288000@degallery.us
SUMMARY:First Saturday Mather's Day Art Fair
DESCRIPTION:Inviting all families\, artists & musicians\nto join us & participate in the FIRST SATURDAY ART FAIRE at DEGALLERY SQUARE\nWith International Artists! \n11 a.m. – 4 p.m. 1st Saturdays at Degallery Square\, 930 N Rosemary Dr\, Bryan TX \n\n \n\n\n\n\nThe First Saturday Art Fair is a unique public outdoor family event at Degallery Square with live music (Professional Jazz Bend)\, art activities for kids (crafting/painting table)\, Art vendors\, and an Artists’ demo! \nIn Program:\n11:00 am -4:00 pm Art Fair with Vendors and Crafting Activities for Kids.\n12:00 am -2:00 pm Live Jazz Music\n9:00 am – 1:00 pm art classes walk in for kids\nAll Artworks Inside Degallery during the First Saturday Art Fair are for sale with a discount of 20% OFF.\n \nIf you are interested in participating\, please contact us\n \nTHE EVENT WILL TAKE PLACE REGARDLESS OF WEATHER CONDITIONS!
URL:https://degallery.us/events/first-saturday-mathers-day-art-fair-2/
LOCATION:DEGALLERY\, 930 N Rosemary Dr\, Bryan TX\, Bryan\, TX\, 77802\, United States
CATEGORIES:Adult Events,Events,Main
ATTACH;FMTTYPE=image/jpeg:https://degallery.us/wp-content/uploads/2025/02/172200029_1855365177958123_5346792531372126839_n.jpg
ORGANIZER;CN="DEGALLERY":MAILTO:contact@degallery.us
END:VEVENT
BEGIN:VEVENT
DTSTART;TZID=America/Chicago:20250503T100000
DTEND;TZID=America/Chicago:20250504T170000
DTSTAMP:20260423T162209
CREATED:20250209T030726Z
LAST-MODIFIED:20260127T162406Z
UID:10000223-1746266400-1746378000@degallery.us
SUMMARY:Charcoal Landscape drawing 2 day workshop with Al Slavin
DESCRIPTION:In this charcoal landscape drawing 2 day workshop we will create a landscape with great depth using a wide range of values from very light to extremely dark.  We will use different types of charcoal including white for highlights.  This will be an exercise of controlling lights and darks to create a 3 dimensional environment.  All skill levels are welcome. 
URL:https://degallery.us/events/charcoal-landscape-drawing-2-day-workshop-with-al-slavin/
LOCATION:DEGALLERY\, 930 N Rosemary Dr\, Bryan TX\, Bryan\, TX\, 77802\, United States
CATEGORIES:Events,Main,Step by Step,Workshops
ATTACH;FMTTYPE=image/jpeg:https://degallery.us/wp-content/uploads/2025/02/thumbnail_IMG_20250208_1501532.jpg
ORGANIZER;CN="DEGALLERY":MAILTO:contact@degallery.us
END:VEVENT
BEGIN:VEVENT
DTSTART;TZID=America/Chicago:20250425T100000
DTEND;TZID=America/Chicago:20250427T170000
DTSTAMP:20260423T162209
CREATED:20250209T032252Z
LAST-MODIFIED:20260127T162406Z
UID:10000224-1745575200-1745773200@degallery.us
SUMMARY:Oil Painting Landscape workshop with Award winning Artist Al Slavin
DESCRIPTION:OIL PAINTING workshop for beginners\, semiprofessionals\, and professional artists. \n3 days\,  April 25-27\,  from 10:00 am to 5:00 pm \nA free days workshop with Al Slavin where we will learn how to use dynamic light in your landscape paintings to create an emotional bond with your viewer. We will focus on clouds and trees to showcase the light. Also emphasized: color theory\, values\, design and composition\, the use of mediums and techniques. \nThe paintings of Al Slavin call to mind magical memories and the promise of a beautiful future. He has the unique ability to capture with brushstrokes all that is good and right with the world and condense it into mystical scenes of enchanted light. Al Slavin moved to Homer\, Alaska when he was 14 years old and he was so moved by the raw beauty of the place that it moved him to express it through paint. He still draws on those feelings when he needs inspiration for a painting or has a little painter’s block. Al has been studying color theory\, painting techniques\, learning how to use mediums\, and experimenting with substrates for about 40 years. In his paintings\, Al tries to express emotions through good light and beautifully rendered scenes with rich colors. Most of Al Slavin’s artwork is from his imagination\, pulled from his many experiences from the many different places he has lived throughout his life. \nMore information about the artist: Al Slavin Fine Art
URL:https://degallery.us/events/oil-painting-landscape-workshop-with-award-winning-artist-al-slavin/
LOCATION:DEGALLERY\, 930 N Rosemary Dr\, Bryan TX\, Bryan\, TX\, 77802\, United States
CATEGORIES:Adult Classes,Events,Main,Step by Step,Workshops
ATTACH;FMTTYPE=image/jpeg:https://degallery.us/wp-content/uploads/2025/02/IMG_20250208_1501052.jpg
ORGANIZER;CN="DEGALLERY":MAILTO:contact@degallery.us
END:VEVENT
END:VCALENDAR