BEGIN:VCALENDAR
VERSION:2.0
PRODID:-//DEGALLERY - ECPv6.15.16.1//NONSGML v1.0//EN
CALSCALE:GREGORIAN
METHOD:PUBLISH
X-WR-CALNAME:DEGALLERY
X-ORIGINAL-URL:https://degallery.us
X-WR-CALDESC:Events for DEGALLERY
REFRESH-INTERVAL;VALUE=DURATION:PT1H
X-Robots-Tag:noindex
X-PUBLISHED-TTL:PT1H
BEGIN:VTIMEZONE
TZID:America/Chicago
BEGIN:DAYLIGHT
TZOFFSETFROM:-0600
TZOFFSETTO:-0500
TZNAME:CDT
DTSTART:20250309T080000
END:DAYLIGHT
BEGIN:STANDARD
TZOFFSETFROM:-0500
TZOFFSETTO:-0600
TZNAME:CST
DTSTART:20251102T070000
END:STANDARD
BEGIN:DAYLIGHT
TZOFFSETFROM:-0600
TZOFFSETTO:-0500
TZNAME:CDT
DTSTART:20260308T080000
END:DAYLIGHT
BEGIN:STANDARD
TZOFFSETFROM:-0500
TZOFFSETTO:-0600
TZNAME:CST
DTSTART:20261101T070000
END:STANDARD
BEGIN:DAYLIGHT
TZOFFSETFROM:-0600
TZOFFSETTO:-0500
TZNAME:CDT
DTSTART:20270314T080000
END:DAYLIGHT
BEGIN:STANDARD
TZOFFSETFROM:-0500
TZOFFSETTO:-0600
TZNAME:CST
DTSTART:20271107T070000
END:STANDARD
END:VTIMEZONE
BEGIN:VEVENT
DTSTART;TZID=America/Chicago:20260320T090000
DTEND;TZID=America/Chicago:20260321T170000
DTSTAMP:20260423T173031
CREATED:20240730T233630Z
LAST-MODIFIED:20260317T183503Z
UID:10000214-1773997200-1774112400@degallery.us
SUMMARY:2 workshops together: "Watercolor Batik" and "Acrylic is THE COOLEST MEDIUM" Workshops with award winning artist Kathie George.
DESCRIPTION:DAY 1 – WATERCOLOR BATIK\nWax and watercolor – put the two together on textured rice paper and wow! You get a look you cannot achieve any other way. This is not an exact science\, so just relax and enjoy the process. Kathie will lead you step-by-step through her process of layering watercolor and wax\, teaching all the important skills you need to become an expert. The best way to teach you this technique is to work together on the same project\, so the class will be working from a photo she has chosen. If you’ve worked with Kathie before and would like to work on your own photo with Kathie’s help\, you can do so. You’ll be excited when you see what this technique can do for your own work! This is a fun class and you’ll be anxious to get home and try it on your own designs. No watercolor skills are necessary. We get a bit messy\, but we have fun doing it! \nDay 2 – ACRYLIC IS THE COOLEST MEDIUM\nIt can be used like watercolor\, oil and everything in between. Begin the day by learning to build a beautiful surface! Enjoy experimenting with different texture mediums to create a wonderful ground for our painting. We’ll pour and carve and stamp and scrape till we get a simply scrumptious surface. Then we develop the subject with beautiful transparent glazes and thicker applications\, too. With acrylic there are really no mistakes\, just a lot of fun as you discover that this is indeed the most forgiving\, adaptable medium.\nIf you’ve wanted to know where acrylic can take you and what it can do for your artwork\, this is the class for you. Kathie will lead you step-by-step through the painting process. You can use Kathie’s design or draw your own. You’ll leave class with a completed painting and the skills and confidence to go with it.\n \nAbout Kathie George: https://kathiegeorgeart.com/
URL:https://degallery.us/events/watercolor-batik-and-mixed-media-collage-workshop-with-award-winning-artist-kathie-george/
LOCATION:DEGALLERY\, 930 N Rosemary Dr\, Bryan TX\, Bryan\, TX\, 77802\, United States
CATEGORIES:Adult Events,Events,Main,Step by Step,Workshops
ATTACH;FMTTYPE=image/jpeg:https://degallery.us/wp-content/uploads/2024/07/Textured-Window-LG-1.jpg
ORGANIZER;CN="DEGALLERY":MAILTO:contact@degallery.us
END:VEVENT
END:VCALENDAR