BEGIN:VCALENDAR
VERSION:2.0
PRODID:-//DEGALLERY - ECPv6.15.16.1//NONSGML v1.0//EN
CALSCALE:GREGORIAN
METHOD:PUBLISH
X-ORIGINAL-URL:https://degallery.us
X-WR-CALDESC:Events for DEGALLERY
REFRESH-INTERVAL;VALUE=DURATION:PT1H
X-Robots-Tag:noindex
X-PUBLISHED-TTL:PT1H
BEGIN:VTIMEZONE
TZID:America/Chicago
BEGIN:DAYLIGHT
TZOFFSETFROM:-0600
TZOFFSETTO:-0500
TZNAME:CDT
DTSTART:20240310T080000
END:DAYLIGHT
BEGIN:STANDARD
TZOFFSETFROM:-0500
TZOFFSETTO:-0600
TZNAME:CST
DTSTART:20241103T070000
END:STANDARD
BEGIN:DAYLIGHT
TZOFFSETFROM:-0600
TZOFFSETTO:-0500
TZNAME:CDT
DTSTART:20250309T080000
END:DAYLIGHT
BEGIN:STANDARD
TZOFFSETFROM:-0500
TZOFFSETTO:-0600
TZNAME:CST
DTSTART:20251102T070000
END:STANDARD
BEGIN:DAYLIGHT
TZOFFSETFROM:-0600
TZOFFSETTO:-0500
TZNAME:CDT
DTSTART:20260308T080000
END:DAYLIGHT
BEGIN:STANDARD
TZOFFSETFROM:-0500
TZOFFSETTO:-0600
TZNAME:CST
DTSTART:20261101T070000
END:STANDARD
END:VTIMEZONE
BEGIN:VEVENT
DTSTART;TZID=America/Chicago:20251018T130000
DTEND;TZID=America/Chicago:20251018T170000
DTSTAMP:20260424T063252
CREATED:20250730T140258Z
LAST-MODIFIED:20260127T162359Z
UID:10000250-1760792400-1760806800@degallery.us
SUMMARY:"Color Theory II- Learning the use of color schemes" with Carolina Dalmas
DESCRIPTION:Color Theory II- Learning the use of color schemes with Carolina Dalmas\n\nUnlock the power of color in your artwork! In this hands-on workshop\, we’ll explore essential color schemes—including analogous\, complementary\, triadic\, and more—and how they can bring harmony\, contrast\, and emotion to your creations. \nStudents will learn:\n• How to identify and apply different color schemes\n• The effects of warm vs. cool palettes\n• How to build a cohesive color story in a piece\n• Tips for choosing the right colors to enhance your subject \nThrough guided exercises and personalized feedback\, each student will create their own artwork using a chosen color scheme. Perfect for artists of all levels looking to deepen their understanding of color and make more intentional creative choices.
URL:https://degallery.us/events/color-theory-ii-learning-the-use-of-color-schemes-with-carolina-dalmas/
LOCATION:DEGALLERY\, 930 N Rosemary Dr\, Bryan TX\, Bryan\, TX\, 77802\, United States
CATEGORIES:Adult Events,Events,Main,Step by Step,Workshops
ATTACH;FMTTYPE=image/jpeg:https://degallery.us/wp-content/uploads/2025/07/Color-Theory.jpg
ORGANIZER;CN="DEGALLERY":MAILTO:contact@degallery.us
END:VEVENT
END:VCALENDAR