BEGIN:VCALENDAR
VERSION:2.0
PRODID:-//DEGALLERY - ECPv6.15.16.1//NONSGML v1.0//EN
CALSCALE:GREGORIAN
METHOD:PUBLISH
X-ORIGINAL-URL:https://degallery.us
X-WR-CALDESC:Events for DEGALLERY
REFRESH-INTERVAL;VALUE=DURATION:PT1H
X-Robots-Tag:noindex
X-PUBLISHED-TTL:PT1H
BEGIN:VTIMEZONE
TZID:America/Chicago
BEGIN:DAYLIGHT
TZOFFSETFROM:-0600
TZOFFSETTO:-0500
TZNAME:CDT
DTSTART:20240310T080000
END:DAYLIGHT
BEGIN:STANDARD
TZOFFSETFROM:-0500
TZOFFSETTO:-0600
TZNAME:CST
DTSTART:20241103T070000
END:STANDARD
BEGIN:DAYLIGHT
TZOFFSETFROM:-0600
TZOFFSETTO:-0500
TZNAME:CDT
DTSTART:20250309T080000
END:DAYLIGHT
BEGIN:STANDARD
TZOFFSETFROM:-0500
TZOFFSETTO:-0600
TZNAME:CST
DTSTART:20251102T070000
END:STANDARD
BEGIN:DAYLIGHT
TZOFFSETFROM:-0600
TZOFFSETTO:-0500
TZNAME:CDT
DTSTART:20260308T080000
END:DAYLIGHT
BEGIN:STANDARD
TZOFFSETFROM:-0500
TZOFFSETTO:-0600
TZNAME:CST
DTSTART:20261101T070000
END:STANDARD
END:VTIMEZONE
BEGIN:VEVENT
DTSTART;TZID=America/Chicago:20250916T180000
DTEND;TZID=America/Chicago:20250916T210000
DTSTAMP:20260424T034806
CREATED:20250910T193548Z
LAST-MODIFIED:20260127T162401Z
UID:10000205-1758045600-1758056400@degallery.us
SUMMARY:Open Studio with Live Model
DESCRIPTION:OPEN STUDIO WITH LIVE MODEL \n Starting September the 16th continuing every other Tuesday.\n  \n• Time: 6:00PM – 9:00PM\n• Price: $10/ Per session (with instruction/critique $15)\nYour Host: T.W. ‘Pops’ Vanya – Long time local artist and award winning painter will\nbe conducting these evening sessions. He brings years of experience and will give\nfeedback or critiques and instruction if asked during or after each session if\nparticipants request. \n\nOver View of Sessions:\n• The first hour will consist of 1\, 3\, and 5 minute poses.\n• The second hour will consist of three 10 minute poses and one 15 minute pose.\n• The third hour will consist of two 20 minute poses. \n• Who to Contact if you have questions:\nFeel free to call or email TW ‘Pops’ Vanya during\nregular business hours – 10:00 AM – 4:00PM\n• Email: tim@twvanyafineart.com \n• Cell: (979) 324-6037 \nCONTACT US IF YOU WANT TO BE A MODEL: contact@degallery.us
URL:https://degallery.us/events/open-studio-with-live-model-25/
LOCATION:DEGALLERY\, 930 N Rosemary Dr\, Bryan TX\, Bryan\, TX\, 77802\, United States
CATEGORIES:Adult Events,Events,Main,Step by Step,Workshops
ATTACH;FMTTYPE=image/jpeg:https://degallery.us/wp-content/uploads/2025/09/MVIMG_20201114_19284537550.jpg
ORGANIZER;CN="DEGALLERY":MAILTO:contact@degallery.us
END:VEVENT
BEGIN:VEVENT
DTSTART;TZID=America/Chicago:20250918T100000
DTEND;TZID=America/Chicago:20250919T170000
DTSTAMP:20260424T034806
CREATED:20241116T145213Z
LAST-MODIFIED:20260127T162401Z
UID:10000216-1758189600-1758301200@degallery.us
SUMMARY:"Painting with Color and Fire" encaustics workshop by Jaimie Ladysh
DESCRIPTION:“Painting with Color and Fire” encaustics workshop by Jaimie Ladysh \nSeptember 18-19\, from 9 am to 5 pm \n This 2-day workshop will cover the basics of working with encaustics. We will go over tools and materials\, safety\, history\, and different techniques. You’ll learn what you need to set up an encaustic art studio at home. Two different approaches of this exciting form of art will be explored; photo encaustic and encaustic collage.  All materials are included (except your images.) \nDay 1:  \n\nlearn about the history of encaustics\nlearn the tools and materials\ndemonstrate and prepare the board\, attach image for photo encaustic\nplan and prepare second board for layering collage\nbegin working on prepared board and image to practice with wax\, color\, and layers\nlearn smoothing surfaces\nlearn how to create textured surfaces\n\nDay 2 \n\nbegin working on photo encaustic\nexplore using various types of color materials\ncontinue working on collage\nlearn embedding techniques with tissue paper and materials\npractice glazing\nusing stencils\nmark making and incising\nsubtractive techniques\nlearn finishing techniques\n\nAbout Artist: \nJaimie is a lens based interdisciplinary artist.  Her work is rooted in place in a spiritual way within the natural world. She explores different themes but the ideas throughout are connection to the universal through nostalgic appeal to a place. There is a comforting solidarity and peaceful longing about the past and a photograph is already in the past.  Currently exploring digital with edited and some composited images\, she prints the images on archival papers\, then further manipulates with hand-coloring\, painting\, and sometimes encaustics.  The results are often described as ethereal.     \nJaimie has a long use photography of traditional film and silver gelatin\, Cyanotype\, Van Dyke\, Photograms\, photo manipulations\, infrared\,  encaustics\, and other alternative processes.  As a fine art major\, she began exploring hand tinting\, coloring\, and painting of photographs with oils\, pencils\, and water based media while at the university.  She used 35 mm\, 2 1/4 x 21/4\, and toy cameras.  \nHer work is archival; made with materials for longevity.  She has been in many galleries\, press\, and venues.  Pieces are in private\, public\, and corporate collections.
URL:https://degallery.us/events/painting-with-color-and-fire-encaustics-workshop-by-jaimie-ladysh-3/
LOCATION:DEGALLERY\, 930 N Rosemary Dr\, Bryan TX\, Bryan\, TX\, 77802\, United States
CATEGORIES:Events,Main,Step by Step,Workshops
ATTACH;FMTTYPE=image/jpeg:https://degallery.us/wp-content/uploads/2024/11/IMG_805076635.jpg
ORGANIZER;CN="DEGALLERY":MAILTO:contact@degallery.us
END:VEVENT
BEGIN:VEVENT
DTSTART;TZID=America/Chicago:20250920T103000
DTEND;TZID=America/Chicago:20250920T153000
DTSTAMP:20260424T034807
CREATED:20250329T200758Z
LAST-MODIFIED:20260127T162400Z
UID:10000234-1758364200-1758382200@degallery.us
SUMMARY:Closer Than Close: Exploring Close-up & Macro Photography with Carol Fox Henrichs
DESCRIPTION:Title: Closer Than Close: Exploring Close-up & Macro Photography \nfor 7th-12th grade\, College Students and Adults  \nInstructor: Carol Fox Henrichs \nDescription: Discover the beauty and wonder of the small world through your lens in this hands-on photography workshop. You will how to see and capture extraordinary detail in ordinary\, everyday objects. Whether you’re using a DSLR\, mirrorless camera\, hybrid\, bridge or even a smartphone with macro capabilities\, you’ll walk away with the knowledge and confidence to elevate your photography and see the world in a whole new way. \nItems to bring: \nRequired: \n· Digital camera (DSLR or mirrorless preferred\, but high-end smartphones with macro capability are welcome) Feel free to ask about your specific camera. \n· Camera user manual \n· For cameras with interchangeable lenses: a macro lens or a Telephoto zoom lens (with extension tubes\, or close-up filters if available) \n· Extra batteries and memory cards \nRecommended: \n· Tripod (preferably with adjustable legs for low angles) – loaners will be available \n· Remote shutter release or smartphone app to trigger camera \n· Small reflector/diffuser (collapsible or DIY)\, can be a half sheet of white poster board – will have some on hand for classroom use \n· Flash or LED light for macro (if you have one) – loaners will be available \nOptional: \n· A small bouquet of mixed\, fresh flowers (from the local grocery store) and a vase \n· A few small items of interest from home (jewelry\, coins\, dried flowers\, shells\, etc.)
URL:https://degallery.us/events/closer-than-close-exploring-close-up-macro-photography-with-carol-fox-henrichs/
LOCATION:DEGALLERY\, 930 N Rosemary Dr\, Bryan TX\, Bryan\, TX\, 77802\, United States
CATEGORIES:Adult Events,Events,Main,Step by Step,Workshops
ATTACH;FMTTYPE=image/jpeg:https://degallery.us/wp-content/uploads/2025/03/untitled-189010373-Edit_hi-res-2-scaled.jpg
ORGANIZER;CN="DEGALLERY":MAILTO:contact@degallery.us
END:VEVENT
END:VCALENDAR