BEGIN:VCALENDAR
VERSION:2.0
PRODID:-//DEGALLERY - ECPv6.15.16.1//NONSGML v1.0//EN
CALSCALE:GREGORIAN
METHOD:PUBLISH
X-ORIGINAL-URL:https://degallery.us
X-WR-CALDESC:Events for DEGALLERY
REFRESH-INTERVAL;VALUE=DURATION:PT1H
X-Robots-Tag:noindex
X-PUBLISHED-TTL:PT1H
BEGIN:VTIMEZONE
TZID:America/Chicago
BEGIN:DAYLIGHT
TZOFFSETFROM:-0600
TZOFFSETTO:-0500
TZNAME:CDT
DTSTART:20240310T080000
END:DAYLIGHT
BEGIN:STANDARD
TZOFFSETFROM:-0500
TZOFFSETTO:-0600
TZNAME:CST
DTSTART:20241103T070000
END:STANDARD
BEGIN:DAYLIGHT
TZOFFSETFROM:-0600
TZOFFSETTO:-0500
TZNAME:CDT
DTSTART:20250309T080000
END:DAYLIGHT
BEGIN:STANDARD
TZOFFSETFROM:-0500
TZOFFSETTO:-0600
TZNAME:CST
DTSTART:20251102T070000
END:STANDARD
BEGIN:DAYLIGHT
TZOFFSETFROM:-0600
TZOFFSETTO:-0500
TZNAME:CDT
DTSTART:20260308T080000
END:DAYLIGHT
BEGIN:STANDARD
TZOFFSETFROM:-0500
TZOFFSETTO:-0600
TZNAME:CST
DTSTART:20261101T070000
END:STANDARD
END:VTIMEZONE
BEGIN:VEVENT
DTSTART;TZID=America/Chicago:20250809T130000
DTEND;TZID=America/Chicago:20250809T150000
DTSTAMP:20260424T064727
CREATED:20250731T213149Z
LAST-MODIFIED:20260127T162404Z
UID:10000253-1754744400-1754751600@degallery.us
SUMMARY:Candle of Desire Workshop for Gifts Back to School
DESCRIPTION:Candle of Desire Workshop for Gifts Back to school\nAugust 9\, Saturday 1-3 pm at Degalley (930 North Rosemary Dr.\, Bryan)\n \nMake your own soy candle — and receive a magical bracelet as a gift!\n \nYou’ll create a candle filled with positive energy — perfect for a meet & greet with your teacher or as a meaningful gift.\n The bracelet is a gift — energy-charged and unique:\n— for luck\n— for love\n— for focus & studies\n— or for motivation\nChoose the one that matches your intention.\n \nCreative & friendly atmosphere\nSpecial price for parents with kids\n \nIncludes:\n• Soy candle-making kit\n• Crystals\, scents\, stickers & decor\n• Bonus bracelet — you choose\, we gift!\n \nLet’s turn your wish into a heartfelt creation 
URL:https://degallery.us/events/candle-of-desire-workshop-for-gifts-back-to-school/
LOCATION:DEGALLERY\, 930 N Rosemary Dr\, Bryan TX\, Bryan\, TX\, 77802\, United States
CATEGORIES:Adult Events,Events,Main,Step by Step,Workshops
ATTACH;FMTTYPE=image/jpeg:https://degallery.us/wp-content/uploads/2025/07/1000062398.jpg
ORGANIZER;CN="DEGALLERY":MAILTO:contact@degallery.us
END:VEVENT
END:VCALENDAR