BEGIN:VCALENDAR
VERSION:2.0
PRODID:-//DEGALLERY - ECPv6.15.16.1//NONSGML v1.0//EN
CALSCALE:GREGORIAN
METHOD:PUBLISH
X-WR-CALNAME:DEGALLERY
X-ORIGINAL-URL:https://degallery.us
X-WR-CALDESC:Events for DEGALLERY
REFRESH-INTERVAL;VALUE=DURATION:PT1H
X-Robots-Tag:noindex
X-PUBLISHED-TTL:PT1H
BEGIN:VTIMEZONE
TZID:America/Chicago
BEGIN:DAYLIGHT
TZOFFSETFROM:-0600
TZOFFSETTO:-0500
TZNAME:CDT
DTSTART:20240310T080000
END:DAYLIGHT
BEGIN:STANDARD
TZOFFSETFROM:-0500
TZOFFSETTO:-0600
TZNAME:CST
DTSTART:20241103T070000
END:STANDARD
BEGIN:DAYLIGHT
TZOFFSETFROM:-0600
TZOFFSETTO:-0500
TZNAME:CDT
DTSTART:20250309T080000
END:DAYLIGHT
BEGIN:STANDARD
TZOFFSETFROM:-0500
TZOFFSETTO:-0600
TZNAME:CST
DTSTART:20251102T070000
END:STANDARD
BEGIN:DAYLIGHT
TZOFFSETFROM:-0600
TZOFFSETTO:-0500
TZNAME:CDT
DTSTART:20260308T080000
END:DAYLIGHT
BEGIN:STANDARD
TZOFFSETFROM:-0500
TZOFFSETTO:-0600
TZNAME:CST
DTSTART:20261101T070000
END:STANDARD
END:VTIMEZONE
BEGIN:VEVENT
DTSTART;TZID=America/Chicago:20250508T090000
DTEND;TZID=America/Chicago:20250510T160000
DTSTAMP:20260424T091409
CREATED:20241122T212417Z
LAST-MODIFIED:20260127T162405Z
UID:10000217-1746694800-1746892800@degallery.us
SUMMARY:“Using Design & Color in your Paintings” workshop with Award-winning artist June Dudley.
DESCRIPTION:“Using Design & Color in your Paintings” workshop with Award-winning artist June Dudley. \n3 days\, May 8-19 from 9:00 am to 4 pm \nJune will work with each person individually as well as with the group.  Each participant will be working from photographs\, either their own or one of June’s.  She will bring her personal collection of photographs that she has painted from & that will make good paintings.  June will concentrate on color and design so landscapes and figurative pieces will all be acceptable subjects.  She will also address values\, drawing\, lighting\, & other topics related to making great paintings.   She will critique your art and you can also bring a finished painting for a critique.  She takes each participant where they are and helps them to move up to the next level in their art. \nInformation about the artist: June Dudley
URL:https://degallery.us/events/using-design-color-in-your-paintings-workshop-with-award-winning-artist-june-dudley/
LOCATION:DEGALLERY\, 930 N Rosemary Dr\, Bryan TX\, Bryan\, TX\, 77802\, United States
CATEGORIES:Events,Main,Step by Step,Workshops
ATTACH;FMTTYPE=image/jpeg:https://degallery.us/wp-content/uploads/2024/06/824416445457585082578824.jpg
ORGANIZER;CN="DEGALLERY":MAILTO:contact@degallery.us
END:VEVENT
BEGIN:VEVENT
DTSTART;TZID=America/Chicago:20250509T180000
DTEND;TZID=America/Chicago:20250509T193000
DTSTAMP:20260424T091409
CREATED:20250501T140403Z
LAST-MODIFIED:20260127T162405Z
UID:10000236-1746813600-1746819000@degallery.us
SUMMARY:Mother's Day Eve Tea pARTy
DESCRIPTION:Happy Mothers Day Eve Tea pARTy! \nMay 9\, from 6 pm to 7:30 pm. \nAll materials included. We provide complimentary cookies\, desert and tea for make your night special!  \nStep by step class for kids\, teens and adults. Acrylic on canvas. Beginner Level.  \nUncork your creative expression with unlimited inspiration as you connect with wonderful people\, re-spark your inner-artist\, and create a beautiful painting in our fear-free BYOB painting class…. in only one night! In this step-by-step\, brushstroke-by-brushstroke class experience\, YOU will: \n• Learn the most important painting techniques such as color mixing\, brushwork\, composition\, texture\, and more \n• Most importantly\, learn how to relax\, have fun\, and feel inspired while you joyfully express yourself through art \n• Receive customized one-on-one art instruction \n• Paint\, sip the night away\, and walk away with a finished BE-YOU-tiful masterpiece with your signature on it! \nJoin us at Degallery…where EVERYONE is an artist!
URL:https://degallery.us/events/mothers-day-eve-tea-party/
LOCATION:DEGALLERY\, 930 N Rosemary Dr\, Bryan TX\, Bryan\, TX\, 77802\, United States
CATEGORIES:Events,Main,Step by Step,Workshops
ATTACH;FMTTYPE=image/jpeg:https://degallery.us/wp-content/uploads/2021/03/абстрактный-букет.jpg
ORGANIZER;CN="DEGALLERY":MAILTO:contact@degallery.us
END:VEVENT
END:VCALENDAR