BEGIN:VCALENDAR
VERSION:2.0
PRODID:-//DEGALLERY - ECPv6.15.16.1//NONSGML v1.0//EN
CALSCALE:GREGORIAN
METHOD:PUBLISH
X-ORIGINAL-URL:https://degallery.us
X-WR-CALDESC:Events for DEGALLERY
REFRESH-INTERVAL;VALUE=DURATION:PT1H
X-Robots-Tag:noindex
X-PUBLISHED-TTL:PT1H
BEGIN:VTIMEZONE
TZID:America/Chicago
BEGIN:DAYLIGHT
TZOFFSETFROM:-0600
TZOFFSETTO:-0500
TZNAME:CDT
DTSTART:20250309T080000
END:DAYLIGHT
BEGIN:STANDARD
TZOFFSETFROM:-0500
TZOFFSETTO:-0600
TZNAME:CST
DTSTART:20251102T070000
END:STANDARD
BEGIN:DAYLIGHT
TZOFFSETFROM:-0600
TZOFFSETTO:-0500
TZNAME:CDT
DTSTART:20260308T080000
END:DAYLIGHT
BEGIN:STANDARD
TZOFFSETFROM:-0500
TZOFFSETTO:-0600
TZNAME:CST
DTSTART:20261101T070000
END:STANDARD
BEGIN:DAYLIGHT
TZOFFSETFROM:-0600
TZOFFSETTO:-0500
TZNAME:CDT
DTSTART:20270314T080000
END:DAYLIGHT
BEGIN:STANDARD
TZOFFSETFROM:-0500
TZOFFSETTO:-0600
TZNAME:CST
DTSTART:20271107T070000
END:STANDARD
END:VTIMEZONE
BEGIN:VEVENT
DTSTART;TZID=America/Chicago:20260122T100000
DTEND;TZID=America/Chicago:20260124T150000
DTSTAMP:20260423T172343
CREATED:20260115T191521Z
LAST-MODIFIED:20260127T162356Z
UID:10000271-1769076000-1769266800@degallery.us
SUMMARY:Oil Painting workshop "Natural Colors in Realistic Painting" with Al Slavin
DESCRIPTION:Oil Painting workshop “Natural Colors in Realistic Painting” with Al Slavin \nOIL PAINTING workshop for beginners\, semiprofessionals\, and professional artists. \n3 days\,  January 22-24\,  from 10:00 am to 3:00 pm \nA free days workshop with Al Slavin where we will learn how to use dynamic light in your paintings to create an emotional bond with your viewer. Also emphasized: color theory\, values\, design and composition\, the use of mediums and techniques. \nThe paintings of Al Slavin call to mind magical memories and the promise of a beautiful future. He has the unique ability to capture with brushstrokes all that is good and right with the world and condense it into mystical scenes of enchanted light. Al Slavin moved to Homer\, Alaska when he was 14 years old and he was so moved by the raw beauty of the place that it moved him to express it through paint. He still draws on those feelings when he needs inspiration for a painting or has a little painter’s block. Al has been studying color theory\, painting techniques\, learning how to use mediums\, and experimenting with substrates for about 40 years. In his paintings\, Al tries to express emotions through good light and beautifully rendered scenes with rich colors. Most of Al Slavin’s artwork is from his imagination\, pulled from his many experiences from the many different places he has lived throughout his life. \nMore information about the artist: Al Slavin Fine Art
URL:https://degallery.us/events/oil-painting-workshop-natural-colors-in-realistic-painting-with-al-slavin/
LOCATION:TX
CATEGORIES:Adult Events,Events,Main,Step by Step,Workshops
ATTACH;FMTTYPE=image/jpeg:https://degallery.us/wp-content/uploads/2026/01/IMG_20250208_150424.jpg
END:VEVENT
BEGIN:VEVENT
DTSTART;TZID=America/Chicago:20260124T150000
DTEND;TZID=America/Chicago:20260124T163000
DTSTAMP:20260423T172343
CREATED:20260102T225641Z
LAST-MODIFIED:20260127T162356Z
UID:10000266-1769266800-1769272200@degallery.us
SUMMARY:Paint & Sip for Beginners
DESCRIPTION:Paint & Sip at Degallery — Step-by-Step Guided Painting Class\nExperience an inspiring evening of creativity and connection at DEGALLERY\, home to Aggieland’s premier Paint & Sip events. Our professionally guided\, step-by-step art classes are designed for participants of all skill levels and take place on scheduled dates and times throughout the year. \nDuring each session\, guests follow a structured\, instructor-led demonstration to complete a beautiful painting in a single class. Whether you are new to painting or looking to refine your artistic skills\, our welcoming environment and expert guidance ensure a rewarding artistic experience. \n\nWhat to Expect in the Class\nDuring this structured\, instructor-guided painting session\, participants will: \n\n\nLearn foundational painting techniques\, including color mixing\, brushwork\, layering\, composition\, and textural effects \n\n\nReceive individualized instruction and support from professional artists \n\n\nEnjoy a relaxed\, encouraging environment that fosters creativity and self-expression \n\n\nComplete a finished artwork by the end of the class\, ready to take home and display \n\n\n\nArtwork Options\nEach class features a selected example painting.If the featured artwork does not match your personal preference\, you are welcome to choose any image from our extensive in-studio collection\, and our instructors will guide you through creating your chosen piece. \nWe want every participant to enjoy the process and leave with a painting they truly love. \n\nMaterials & Refreshments\n\n\nAll essential painting materials are provided \n\n\nGuests are welcome to bring their own wine or beverages (BYOB)\, if desired \n\n\nDegallery provides a comfortable and fully equipped creative environment \n\n\n\nWho May Participate\nThese sessions are open to adults and teens ages 13 and up.No prior art experience is required. \n\nWhy Degallery?\nDegallery is recognized as a leading creative center in Aggieland\, offering exceptional art instruction\, a welcoming atmosphere\, and an inspiring setting for artistic exploration. We are proud to provide high-quality Paint & Sip experiences that blend education\, relaxation\, and artistic enjoyment. \n\nJoin Us at Degallery—Where Everyone Is an Artist
URL:https://degallery.us/events/paint-sip-for-beginners-2/
LOCATION:DEGALLERY\, 930 N Rosemary Dr\, Bryan TX\, Bryan\, TX\, 77802\, United States
CATEGORIES:Adult Events,Events,Main,Step by Step,Workshops
ATTACH;FMTTYPE=image/png:https://degallery.us/wp-content/uploads/2026/01/1000074525.png
ORGANIZER;CN="DEGALLERY":MAILTO:contact@degallery.us
END:VEVENT
BEGIN:VEVENT
DTSTART;TZID=America/Chicago:20260129T183000
DTEND;TZID=America/Chicago:20260129T200000
DTSTAMP:20260423T172343
CREATED:20260102T231427Z
LAST-MODIFIED:20260127T162355Z
UID:10000267-1769711400-1769716800@degallery.us
SUMMARY:Paint & Sip for Beginners
DESCRIPTION:Paint & Sip at Degallery — Step-by-Step Guided Painting Class\nExperience an inspiring evening of creativity and connection at DEGALLERY\, home to Aggieland’s premier Paint & Sip events. Our professionally guided\, step-by-step art classes are designed for participants of all skill levels and take place on scheduled dates and times throughout the year. \nDuring each session\, guests follow a structured\, instructor-led demonstration to complete a beautiful painting in a single class. Whether you are new to painting or looking to refine your artistic skills\, our welcoming environment and expert guidance ensure a rewarding artistic experience. \n\nWhat to Expect in the Class\nDuring this structured\, instructor-guided painting session\, participants will: \n\n\nLearn foundational painting techniques\, including color mixing\, brushwork\, layering\, composition\, and textural effects \n\n\nReceive individualized instruction and support from professional artists \n\n\nEnjoy a relaxed\, encouraging environment that fosters creativity and self-expression \n\n\nComplete a finished artwork by the end of the class\, ready to take home and display \n\n\n\nArtwork Options\nEach class features a selected example painting.If the featured artwork does not match your personal preference\, you are welcome to choose any image from our extensive in-studio collection\, and our instructors will guide you through creating your chosen piece. \nWe want every participant to enjoy the process and leave with a painting they truly love. \n\nMaterials & Refreshments\n\n\nAll essential painting materials are provided \n\n\nGuests are welcome to bring their own wine or beverages (BYOB)\, if desired \n\n\nDegallery provides a comfortable and fully equipped creative environment \n\n\n\nWho May Participate\nThese sessions are open to adults and teens ages 13 and up.No prior art experience is required. \n\nWhy Degallery?\nDegallery is recognized as a leading creative center in Aggieland\, offering exceptional art instruction\, a welcoming atmosphere\, and an inspiring setting for artistic exploration. We are proud to provide high-quality Paint & Sip experiences that blend education\, relaxation\, and artistic enjoyment. \n\nJoin Us at Degallery—Where Everyone Is an Artist
URL:https://degallery.us/events/paint-sip-for-beginners-3/
LOCATION:DEGALLERY\, 930 N Rosemary Dr\, Bryan TX\, Bryan\, TX\, 77802\, United States
CATEGORIES:Adult Events,Events,Main,Step by Step,Workshops
ATTACH;FMTTYPE=image/png:https://degallery.us/wp-content/uploads/2026/01/1000074529.png
ORGANIZER;CN="DEGALLERY":MAILTO:contact@degallery.us
END:VEVENT
END:VCALENDAR