BEGIN:VCALENDAR
VERSION:2.0
PRODID:-//DEGALLERY - ECPv6.15.16.1//NONSGML v1.0//EN
CALSCALE:GREGORIAN
METHOD:PUBLISH
X-ORIGINAL-URL:https://degallery.us
X-WR-CALDESC:Events for DEGALLERY
REFRESH-INTERVAL;VALUE=DURATION:PT1H
X-Robots-Tag:noindex
X-PUBLISHED-TTL:PT1H
BEGIN:VTIMEZONE
TZID:America/Chicago
BEGIN:DAYLIGHT
TZOFFSETFROM:-0600
TZOFFSETTO:-0500
TZNAME:CDT
DTSTART:20250309T080000
END:DAYLIGHT
BEGIN:STANDARD
TZOFFSETFROM:-0500
TZOFFSETTO:-0600
TZNAME:CST
DTSTART:20251102T070000
END:STANDARD
BEGIN:DAYLIGHT
TZOFFSETFROM:-0600
TZOFFSETTO:-0500
TZNAME:CDT
DTSTART:20260308T080000
END:DAYLIGHT
BEGIN:STANDARD
TZOFFSETFROM:-0500
TZOFFSETTO:-0600
TZNAME:CST
DTSTART:20261101T070000
END:STANDARD
BEGIN:DAYLIGHT
TZOFFSETFROM:-0600
TZOFFSETTO:-0500
TZNAME:CDT
DTSTART:20270314T080000
END:DAYLIGHT
BEGIN:STANDARD
TZOFFSETFROM:-0500
TZOFFSETTO:-0600
TZNAME:CST
DTSTART:20271107T070000
END:STANDARD
END:VTIMEZONE
BEGIN:VEVENT
DTSTART;TZID=America/Chicago:20260328T080000
DTEND;TZID=America/Chicago:20260403T090000
DTSTAMP:20260423T160802
CREATED:20250217T232639Z
LAST-MODIFIED:20260205T033850Z
UID:10000229-1774684800-1775206800@degallery.us
SUMMARY:DEGART 2026 INTERNATIONAL ART EVENT
DESCRIPTION:About: https://www.artdega.org/programs/degart/\nHave you experienced the mesmerizing beauty of Central Texas during the Bluebonnet Bloom?\nIf not\, seize this unique opportunity to capture its essence on canvas! Immerse yourself in the extraordinary landscapes teeming with Texan charm. Join us for a series of Art Events featuring Workshops\, Plein Air sessions\, and captivating Art Shows—all integral parts of the prestigious DEGART Grand Event!\nEmbark on a journey through the picturesque Bluebonnet country\, where rolling hills\, river bluffs\, and quaint historic towns await your artistic touch. With countless scenic vistas awaiting your brushstrokes\, this paintout promises an unforgettable experience amidst the larger canvas of the DEGART Grand Event\, sure to captivate the local community. \nMark your calendars (March 28-April 2\, 2026) for this artistic extravaganza\, set to unfold in the enchanting Bryan/College Station area of Central Texas\, proudly hosted by DEGALLERY and DEGA International Art Association.\nDEGA International Art Association is a nonprofit service organization that provides resources that working artists and emerging arts organizations need to thrive. DEGA International Art Association supports international cooperation and artistic exchange\, free from any aesthetic\, political\, or other bias\, and aims to improve the economic and social position of Galleries and Artists on the national and international level (www.artdega.org)\nSituated in the heart of Central Texas\, DEGALLERY is the premier Art studio and International Award-Winning Gallery renowned for its excellence and commitment to the arts (www.Degallery.us). We are delighted to extend our venue to host this art event dedicated to enriching the International Art Community.\nThe DEGART GRAND Art EVENT offers a platform for artists to not only expand their reach and refine their craft but also bask in the splendor of Texas during the enchanting Bluebonnet season\, surrounded by fellow creatives. Embracing artists of all levels\, this event presents an opportunity to flourish\, garner recognition\, and partake in the vibrant artistic tapestry that is Texas.\n\n\nDEGART International Art Event \n\n\n 
URL:https://degallery.us/events/degart-2025-international-art-event/
LOCATION:DEGALLERY\, 930 N Rosemary Dr\, Bryan TX\, Bryan\, TX\, 77802\, United States
CATEGORIES:Events,Main
ATTACH;FMTTYPE=image/jpeg:https://degallery.us/wp-content/uploads/2025/02/preview-with-bryan.jpg
ORGANIZER;CN="DEGALLERY":MAILTO:contact@degallery.us
END:VEVENT
BEGIN:VEVENT
DTSTART;TZID=America/Chicago:20260330T100000
DTEND;TZID=America/Chicago:20260330T160000
DTSTAMP:20260423T160802
CREATED:20251121T185459Z
LAST-MODIFIED:20260127T162353Z
UID:10000261-1774864800-1774886400@degallery.us
SUMMARY:Workshop: Still Life in gouache with Natalia Andreeva
DESCRIPTION:Workshop: Still Life in gouache with Natalia Andreeva\n\nDiscover the beauty of gouache painting. This workshop explores application methods while focusing on how to observe your subject—seeing light\, form\, and atmosphere. We’ll also dive into composition\, design\, value\, color\, and edges to bring your paintings to life.\n\nList of Suggested Materials:\n \n     Casein gouache paints (cool and warm primary colors\, plus white and black)\n \n     Brushes (recommended sizes: #2\, #4\, #10 and #12). I like flat and soft.\n \n     Paper towels\n \n     Plastic bag\n \n     Watercolor paper or board (preferred sizes: between 8”x10” and 12”x16”\, please bring a couple)\n \n     Practice paper for color studies \n \n     Sketchbook (8”x10”)\n \n     Pencil\n \n     White or grey palette\n \n     Portable airtight paint saver storage palette box (16 wells)\n \n     Clips or artist’s tape\n \n     Water container to wash your brushes\n \n     Tooth picks\n\n \n\n \nBIO\n Natalia Andreeva emerged as an artist from the rich and fertile artistic climate of Novosibirsk\, in Siberia after graduating from it’s most prestigious art college. During her classical education in the canons of European art she was greatly influenced by eastern philosophy. Consequentially\, Natalia’s work is a harmonious marriage between spontaneous expressions and classical realism.\nAmong Natalia’s favorite themes are exquisite landscapes\, depicting the subtlety of nature\, still life\, where vibrant shapes and internal dynamics are shown in contrast to the commonplace subjects\, and finally\, figures and portraits brimming with humanity\, and giving testament to the beauty and harmony of the human condition.\nNatalia holds Signature Membership Status in the American Impressionist Society\, and she was a President Tallahassee Watercolor Society 2023-2024\,  President Plein Air Painters of South-East 2025. \n \n*  *  *\nStatement\n“From my early childhood I was intrigued and fascinated by the enigma of art\, this magical process that turns “nothing” into the harmonic tune of chaos. I adore this something that gives birth to new feelings and associations.\nLearning art techniques did not diminish my interest and surprise\, on the contrary\, it has deepened my passion for art. In fact\, all this may be the reason why the actual process of creation gives me the most pleasure. Each work is a continuation of the quest and each new step develops my feelings and intensifies my exploration of the magic of art.\nI prefer a personal experience of my subjects\, painting landscapes\, portraits\, still life on location; and I follow my mood in choosing the motive. I love color. I believe it is power\, it burns\, it cools\, it speaks\, and I think\, it is part of the spell.”\n\n \nWebsite: www.andreeva.com
URL:https://degallery.us/events/workshop-still-life-in-gouache-with-natalia-andreeva/
LOCATION:DEGALLERY\, 930 N Rosemary Dr\, Bryan TX\, Bryan\, TX\, 77802\, United States
CATEGORIES:Events,Main,Step by Step,Workshops
ATTACH;FMTTYPE=image/jpeg:https://degallery.us/wp-content/uploads/2025/11/thumbnail_FBD5105D-8C37-4873-B096-3215D991AE6A-IMG_8979.jpg
ORGANIZER;CN="DEGALLERY":MAILTO:contact@degallery.us
END:VEVENT
BEGIN:VEVENT
DTSTART;TZID=America/Chicago:20260401T190000
DTEND;TZID=America/Chicago:20260401T213000
DTSTAMP:20260423T160802
CREATED:20220323T165457Z
LAST-MODIFIED:20260317T213042Z
UID:10000192-1775070000-1775079000@degallery.us
SUMMARY:"Art & Body" One night Art Show and Auction
DESCRIPTION:  \n  \nOnly for 18+ years old visitors. For Artists and Art Lovers! You are invited to the 5th “Art & Body” One Night Art Show and Auction. We will display and sell artworks with figure paintings and drawings from national\, international\, and local artists. You can enjoy amazing art and purchase a unique original masterpiece. Wine and finger food are complimentary from Degallery.  \nAdmission is free. All artists who want to participate with figure drawings/paintings should bring artworks to Degallery until April 7.  We accepted photography\, drawing\, painting\, and sculptures of any size and medium.  \n  \n  \n  \n  \n \n  \n 
URL:https://degallery.us/events/art-body-one-night-art-show-and-auction/
LOCATION:DEGALLERY\, 930 N Rosemary Dr\, Bryan TX\, Bryan\, TX\, 77802\, United States
CATEGORIES:Events,Main
ATTACH;FMTTYPE=image/jpeg:https://degallery.us/wp-content/uploads/2022/03/img164804761346438832.jpg
ORGANIZER;CN="DEGALLERY":MAILTO:contact@degallery.us
END:VEVENT
BEGIN:VEVENT
DTSTART;TZID=America/Chicago:20260402T180000
DTEND;TZID=America/Chicago:20260402T203000
DTSTAMP:20260423T160802
CREATED:20240509T184016Z
LAST-MODIFIED:20260317T205317Z
UID:10000194-1775152800-1775161800@degallery.us
SUMMARY:GALA of DEGART 2026 International Art Event
DESCRIPTION:The public is invited to honor and celebrate the unique fundraising event\, DEGART 2026 GRAND ART GALA at DEGALLERY. \nIn event program: Art Vernissage and Art Auction\, Buffet\, Life Music\, and art presentation by International Award-winning Artists. Your ticket includes 1 Ticket to the Grand Gala with Buffet and a $50 art credit for the 2025 art purchase.  Our mission is to support the local\, national\, and international Art community.  The proceeds raised during the event help DEGALLERY and DEGA International Art Association achieve its mission of making the arts accessible to all talented artists and talented kids and developing our art community.  \n\n\n\n\n\n\n\n\n\n\n\nDEGALLERY and DEGA International Art Association provide much-needed arts education opportunities to youth worldwide\, including scholarships to graduating high school seniors who desire to continue their arts education\, Brazos Valley Rehabilitation Center Patients ‘ art classes\, and more.\n\n\n\n\n\n\n\n\n\n\n\nDEGART GRAND ART  EVENT  has collaborated with numerous progressive organizations\, generous sponsors\, and dedicated\, talented individuals who make this possible. 
URL:https://degallery.us/events/vip-gala-of-degart-2025-international-art-event/
LOCATION:DEGALLERY\, 930 N Rosemary Dr\, Bryan TX\, Bryan\, TX\, 77802\, United States
CATEGORIES:Events,Main
ATTACH;FMTTYPE=image/png:https://degallery.us/wp-content/uploads/2024/05/Gala-Image.png
ORGANIZER;CN="DEGALLERY":MAILTO:contact@degallery.us
END:VEVENT
END:VCALENDAR