BEGIN:VCALENDAR
VERSION:2.0
PRODID:-//DEGALLERY - ECPv6.15.16.1//NONSGML v1.0//EN
CALSCALE:GREGORIAN
METHOD:PUBLISH
X-ORIGINAL-URL:https://degallery.us
X-WR-CALDESC:Events for DEGALLERY
REFRESH-INTERVAL;VALUE=DURATION:PT1H
X-Robots-Tag:noindex
X-PUBLISHED-TTL:PT1H
BEGIN:VTIMEZONE
TZID:America/Chicago
BEGIN:DAYLIGHT
TZOFFSETFROM:-0600
TZOFFSETTO:-0500
TZNAME:CDT
DTSTART:20250309T080000
END:DAYLIGHT
BEGIN:STANDARD
TZOFFSETFROM:-0500
TZOFFSETTO:-0600
TZNAME:CST
DTSTART:20251102T070000
END:STANDARD
BEGIN:DAYLIGHT
TZOFFSETFROM:-0600
TZOFFSETTO:-0500
TZNAME:CDT
DTSTART:20260308T080000
END:DAYLIGHT
BEGIN:STANDARD
TZOFFSETFROM:-0500
TZOFFSETTO:-0600
TZNAME:CST
DTSTART:20261101T070000
END:STANDARD
BEGIN:DAYLIGHT
TZOFFSETFROM:-0600
TZOFFSETTO:-0500
TZNAME:CDT
DTSTART:20270314T080000
END:DAYLIGHT
BEGIN:STANDARD
TZOFFSETFROM:-0500
TZOFFSETTO:-0600
TZNAME:CST
DTSTART:20271107T070000
END:STANDARD
END:VTIMEZONE
BEGIN:VEVENT
DTSTART;TZID=America/Chicago:20260328T080000
DTEND;TZID=America/Chicago:20260403T090000
DTSTAMP:20260423T173143
CREATED:20250217T232639Z
LAST-MODIFIED:20260205T033850Z
UID:10000229-1774684800-1775206800@degallery.us
SUMMARY:DEGART 2026 INTERNATIONAL ART EVENT
DESCRIPTION:About: https://www.artdega.org/programs/degart/\nHave you experienced the mesmerizing beauty of Central Texas during the Bluebonnet Bloom?\nIf not\, seize this unique opportunity to capture its essence on canvas! Immerse yourself in the extraordinary landscapes teeming with Texan charm. Join us for a series of Art Events featuring Workshops\, Plein Air sessions\, and captivating Art Shows—all integral parts of the prestigious DEGART Grand Event!\nEmbark on a journey through the picturesque Bluebonnet country\, where rolling hills\, river bluffs\, and quaint historic towns await your artistic touch. With countless scenic vistas awaiting your brushstrokes\, this paintout promises an unforgettable experience amidst the larger canvas of the DEGART Grand Event\, sure to captivate the local community. \nMark your calendars (March 28-April 2\, 2026) for this artistic extravaganza\, set to unfold in the enchanting Bryan/College Station area of Central Texas\, proudly hosted by DEGALLERY and DEGA International Art Association.\nDEGA International Art Association is a nonprofit service organization that provides resources that working artists and emerging arts organizations need to thrive. DEGA International Art Association supports international cooperation and artistic exchange\, free from any aesthetic\, political\, or other bias\, and aims to improve the economic and social position of Galleries and Artists on the national and international level (www.artdega.org)\nSituated in the heart of Central Texas\, DEGALLERY is the premier Art studio and International Award-Winning Gallery renowned for its excellence and commitment to the arts (www.Degallery.us). We are delighted to extend our venue to host this art event dedicated to enriching the International Art Community.\nThe DEGART GRAND Art EVENT offers a platform for artists to not only expand their reach and refine their craft but also bask in the splendor of Texas during the enchanting Bluebonnet season\, surrounded by fellow creatives. Embracing artists of all levels\, this event presents an opportunity to flourish\, garner recognition\, and partake in the vibrant artistic tapestry that is Texas.\n\n\nDEGART International Art Event \n\n\n 
URL:https://degallery.us/events/degart-2025-international-art-event/
LOCATION:DEGALLERY\, 930 N Rosemary Dr\, Bryan TX\, Bryan\, TX\, 77802\, United States
CATEGORIES:Events,Main
ATTACH;FMTTYPE=image/jpeg:https://degallery.us/wp-content/uploads/2025/02/preview-with-bryan.jpg
ORGANIZER;CN="DEGALLERY":MAILTO:contact@degallery.us
END:VEVENT
END:VCALENDAR