BEGIN:VCALENDAR
VERSION:2.0
PRODID:-//DEGALLERY - ECPv6.15.16.1//NONSGML v1.0//EN
CALSCALE:GREGORIAN
METHOD:PUBLISH
X-ORIGINAL-URL:https://degallery.us
X-WR-CALDESC:Events for DEGALLERY
REFRESH-INTERVAL;VALUE=DURATION:PT1H
X-Robots-Tag:noindex
X-PUBLISHED-TTL:PT1H
BEGIN:VTIMEZONE
TZID:America/Chicago
BEGIN:DAYLIGHT
TZOFFSETFROM:-0600
TZOFFSETTO:-0500
TZNAME:CDT
DTSTART:20250309T080000
END:DAYLIGHT
BEGIN:STANDARD
TZOFFSETFROM:-0500
TZOFFSETTO:-0600
TZNAME:CST
DTSTART:20251102T070000
END:STANDARD
BEGIN:DAYLIGHT
TZOFFSETFROM:-0600
TZOFFSETTO:-0500
TZNAME:CDT
DTSTART:20260308T080000
END:DAYLIGHT
BEGIN:STANDARD
TZOFFSETFROM:-0500
TZOFFSETTO:-0600
TZNAME:CST
DTSTART:20261101T070000
END:STANDARD
BEGIN:DAYLIGHT
TZOFFSETFROM:-0600
TZOFFSETTO:-0500
TZNAME:CDT
DTSTART:20270314T080000
END:DAYLIGHT
BEGIN:STANDARD
TZOFFSETFROM:-0500
TZOFFSETTO:-0600
TZNAME:CST
DTSTART:20271107T070000
END:STANDARD
END:VTIMEZONE
BEGIN:VEVENT
DTSTART;TZID=America/Chicago:20260620T110000
DTEND;TZID=America/Chicago:20260620T150000
DTSTAMP:20260424T222109
CREATED:20250618T023653Z
LAST-MODIFIED:20260407T192954Z
UID:10000248-1781953200-1781967600@degallery.us
SUMMARY:"Cactus Workshop in Pastels"   with pastel artist Tetyana Aleksenko
DESCRIPTION:“Cactus Workshop in Pastels”\n \nWith pastel artist Tetyana Aleksenko at Degallery (930 North Rosemary Dr.\, Bryan)\n \nDuring this workshop with Tetyana Aleksenko\, we will learn how to paint cactuses. You are welcome to use your own reference photo or paint from Tetyana’s reference\, Tetyana will help you every step on the way. Every student will receive individual attention and help with choosing a correct paper for the project\,  composition\, color palette\, and pastel techniques. As always\, all supplies are included!
URL:https://degallery.us/events/cactus-workshop-in-pastels-with-pastel-artist-tetyana-aleksenko/
LOCATION:DEGALLERY\, 930 N Rosemary Dr\, Bryan TX\, Bryan\, TX\, 77802\, United States
CATEGORIES:Adult Events,Events,Main,Step by Step,Workshops
ATTACH;FMTTYPE=image/jpeg:https://degallery.us/wp-content/uploads/2025/06/thumbnail_Cactus-Workshop.jpg
ORGANIZER;CN="DEGALLERY":MAILTO:contact@degallery.us
END:VEVENT
BEGIN:VEVENT
DTSTART;TZID=America/Chicago:20260717T180000
DTEND;TZID=America/Chicago:20260718T150000
DTSTAMP:20260424T222109
CREATED:20260420T221938Z
LAST-MODIFIED:20260420T221938Z
UID:10000283-1784311200-1784386800@degallery.us
SUMMARY:Mosaic Art Workshop (2 Days)
DESCRIPTION:Mosaic Art Workshop (2 Days) Friday 6-8 pm\, Saturday 1-3 pmDesign. Assemble. Transform. \nDiscover the timeless beauty of mosaic art in this immersive two-day workshop at Degallery. Guided by Dary Dega\, award-winning artist\, you will create your own unique mosaic artwork using glass\, ceramic pieces\, and mixed materials. \nOver two days\, you will learn how to design a composition\, select and combine materials\, and build your artwork piece by piece. This process is both creative and meditative—transforming small fragments into a cohesive and expressive work of art. \nDay 1: Concept\, design layout\, material selection\, and assembling your mosaicDay 2: Completing composition\, grouting\, and finishing techniques \nWhether you prefer abstract design\, floral motifs\, or decorative patterns\, this workshop allows you to explore your creativity while learning a traditional art form in a contemporary way. \nInstructor: Dary DegaAward-winning artist known for her inspiring teaching and refined artistic approach \n✨ All materials included✨ No experience needed✨ Take home your finished mosaic artwork \nJoin us for a creative weekend at Degallery and experience the beauty of building art piece by piece.
URL:https://degallery.us/events/mosaic-art-workshop-2-days/
LOCATION:DEGALLERY\, 930 N Rosemary Dr\, Bryan TX\, Bryan\, TX\, 77802\, United States
CATEGORIES:Adult Events,Events,Main,Step by Step,Workshops
ATTACH;FMTTYPE=image/png:https://degallery.us/wp-content/uploads/2026/04/d60a02ad-3a87-4b0c-8ec7-15fab1535b13.png
ORGANIZER;CN="DEGALLERY":MAILTO:contact@degallery.us
END:VEVENT
END:VCALENDAR