BEGIN:VCALENDAR
VERSION:2.0
PRODID:-//DEGALLERY - ECPv6.15.16.1//NONSGML v1.0//EN
CALSCALE:GREGORIAN
METHOD:PUBLISH
X-WR-CALNAME:DEGALLERY
X-ORIGINAL-URL:https://degallery.us
X-WR-CALDESC:Events for DEGALLERY
REFRESH-INTERVAL;VALUE=DURATION:PT1H
X-Robots-Tag:noindex
X-PUBLISHED-TTL:PT1H
BEGIN:VTIMEZONE
TZID:America/Chicago
BEGIN:DAYLIGHT
TZOFFSETFROM:-0600
TZOFFSETTO:-0500
TZNAME:CDT
DTSTART:20250309T080000
END:DAYLIGHT
BEGIN:STANDARD
TZOFFSETFROM:-0500
TZOFFSETTO:-0600
TZNAME:CST
DTSTART:20251102T070000
END:STANDARD
BEGIN:DAYLIGHT
TZOFFSETFROM:-0600
TZOFFSETTO:-0500
TZNAME:CDT
DTSTART:20260308T080000
END:DAYLIGHT
BEGIN:STANDARD
TZOFFSETFROM:-0500
TZOFFSETTO:-0600
TZNAME:CST
DTSTART:20261101T070000
END:STANDARD
BEGIN:DAYLIGHT
TZOFFSETFROM:-0600
TZOFFSETTO:-0500
TZNAME:CDT
DTSTART:20270314T080000
END:DAYLIGHT
BEGIN:STANDARD
TZOFFSETFROM:-0500
TZOFFSETTO:-0600
TZNAME:CST
DTSTART:20271107T070000
END:STANDARD
END:VTIMEZONE
BEGIN:VEVENT
DTSTART;TZID=America/Chicago:20260403T180000
DTEND;TZID=America/Chicago:20260403T200000
DTSTAMP:20260423T184557
CREATED:20260327T222638Z
LAST-MODIFIED:20260327T222638Z
UID:10000278-1775239200-1775246400@degallery.us
SUMMARY:NEW Unique Jewelry Art Show "Inspiration" by BELLE Jewelry Studio (New York)
DESCRIPTION:You Are Invited \nArt Show “INSPIRATION”Handmade Fine Art Jewelryby BELLE Jewelry Studio (New York) \nInspired by the exhibition “100 Years of Art Deco” at Musée des Arts Décoratifs\, Paris \nGrand Opening ReceptionFriday\, April 3 | 6:00 – 8:00 PM \nJoin us for an elegant evening celebrating the beauty of Art Deco–inspired jewelry design.Experience unique handcrafted pieces\, meet the artist\, and enjoy a refined atmosphere. \nAdmission is freeWine\, cheese\, and artist reception \nat DEGALLERY \n\n \nArtist Bio:\n \n Isabella Oganessian is an architect and interior designer whose creative practice extends far beyond the boundaries of her profession. With a deep passion for art history\, she explores the transformation of one art form into another\, reinterpreting ideas across disciplines and mediums.\nFor many years\, Isabella has focused on jewelry design\, guided by the inherent character of natural stones. Her work emphasizes the color\, texture\, and shape of each material\, allowing the essence of the gemstone to inform the final piece.\nWith extensive experience in architecture\, Isabella brings a specific perspective to jewelry making. She recognizes that both disciplines share fundamental principles—color\, proportion\, material\, and comfort in use—and she translates this architectural sensibility into wearable form.
URL:https://degallery.us/events/new-unique-jewelry-art-show-inspiration-by-belle-jewelry-studio-new-york/
LOCATION:DEGALLERY\, 930 N Rosemary Dr\, Bryan TX\, Bryan\, TX\, 77802\, United States
CATEGORIES:Adult Events,Events
ATTACH;FMTTYPE=image/png:https://degallery.us/wp-content/uploads/2026/03/a490a8bd-517a-4226-b024-ab12c24ac607.png
ORGANIZER;CN="DEGALLERY":MAILTO:contact@degallery.us
END:VEVENT
END:VCALENDAR