BEGIN:VCALENDAR
VERSION:2.0
PRODID:-//DEGALLERY - ECPv6.15.16.1//NONSGML v1.0//EN
CALSCALE:GREGORIAN
METHOD:PUBLISH
X-ORIGINAL-URL:https://degallery.us
X-WR-CALDESC:Events for DEGALLERY
REFRESH-INTERVAL;VALUE=DURATION:PT1H
X-Robots-Tag:noindex
X-PUBLISHED-TTL:PT1H
BEGIN:VTIMEZONE
TZID:America/Chicago
BEGIN:DAYLIGHT
TZOFFSETFROM:-0600
TZOFFSETTO:-0500
TZNAME:CDT
DTSTART:20240310T080000
END:DAYLIGHT
BEGIN:STANDARD
TZOFFSETFROM:-0500
TZOFFSETTO:-0600
TZNAME:CST
DTSTART:20241103T070000
END:STANDARD
BEGIN:DAYLIGHT
TZOFFSETFROM:-0600
TZOFFSETTO:-0500
TZNAME:CDT
DTSTART:20250309T080000
END:DAYLIGHT
BEGIN:STANDARD
TZOFFSETFROM:-0500
TZOFFSETTO:-0600
TZNAME:CST
DTSTART:20251102T070000
END:STANDARD
BEGIN:DAYLIGHT
TZOFFSETFROM:-0600
TZOFFSETTO:-0500
TZNAME:CDT
DTSTART:20260308T080000
END:DAYLIGHT
BEGIN:STANDARD
TZOFFSETFROM:-0500
TZOFFSETTO:-0600
TZNAME:CST
DTSTART:20261101T070000
END:STANDARD
END:VTIMEZONE
BEGIN:VEVENT
DTSTART;TZID=America/Chicago:20250927T130000
DTEND;TZID=America/Chicago:20250927T180000
DTSTAMP:20260424T092413
CREATED:20250619T211811Z
LAST-MODIFIED:20260127T162400Z
UID:10000249-1758978000-1758996000@degallery.us
SUMMARY:"Sunflowers" with Soft Pastel workshop by Tetyana Aleksenko
DESCRIPTION:“Sunflowers” with Soft Pastel workshop by Tetyana Aleksenko \nat Degallery\, 930 North Rosemary Dr.\, Bryan \n1 pm -6 pm\, $150 \nDuring this 1-day workshop with award-winning pastel artist Tetyana Aleksenko\, we will learn how to paint realistic flowers in soft pastels. The emphasis will be on learning how to make yellow or orange flowers glow from within. Tetyana will discuss paper choices\, color theory\, edge work\, and composition principles. You are welcome to bring your own reference or work with Tetyana’s reference. Tetyana will provide each student with a step-by-step print-out of this sunflower painting and\, as always\, all supplies provided. The workshop is suitable for artists of all levels. 
URL:https://degallery.us/events/sunflowers-with-soft-pastel-workshop-by-tetyana-aleksenko/
LOCATION:DEGALLERY\, 930 N Rosemary Dr\, Bryan TX\, Bryan\, TX\, 77802\, United States
CATEGORIES:Adult Events,Events,Main,Step by Step,Workshops
ATTACH;FMTTYPE=image/jpeg:https://degallery.us/wp-content/uploads/2025/06/thumbnail_sunflower-2-small.jpg
ORGANIZER;CN="DEGALLERY":MAILTO:contact@degallery.us
END:VEVENT
END:VCALENDAR