BEGIN:VCALENDAR
VERSION:2.0
PRODID:-//DEGALLERY - ECPv6.15.16.1//NONSGML v1.0//EN
CALSCALE:GREGORIAN
METHOD:PUBLISH
X-ORIGINAL-URL:https://degallery.us
X-WR-CALDESC:Events for DEGALLERY
REFRESH-INTERVAL;VALUE=DURATION:PT1H
X-Robots-Tag:noindex
X-PUBLISHED-TTL:PT1H
BEGIN:VTIMEZONE
TZID:America/Chicago
BEGIN:DAYLIGHT
TZOFFSETFROM:-0600
TZOFFSETTO:-0500
TZNAME:CDT
DTSTART:20240310T080000
END:DAYLIGHT
BEGIN:STANDARD
TZOFFSETFROM:-0500
TZOFFSETTO:-0600
TZNAME:CST
DTSTART:20241103T070000
END:STANDARD
BEGIN:DAYLIGHT
TZOFFSETFROM:-0600
TZOFFSETTO:-0500
TZNAME:CDT
DTSTART:20250309T080000
END:DAYLIGHT
BEGIN:STANDARD
TZOFFSETFROM:-0500
TZOFFSETTO:-0600
TZNAME:CST
DTSTART:20251102T070000
END:STANDARD
BEGIN:DAYLIGHT
TZOFFSETFROM:-0600
TZOFFSETTO:-0500
TZNAME:CDT
DTSTART:20260308T080000
END:DAYLIGHT
BEGIN:STANDARD
TZOFFSETFROM:-0500
TZOFFSETTO:-0600
TZNAME:CST
DTSTART:20261101T070000
END:STANDARD
END:VTIMEZONE
BEGIN:VEVENT
DTSTART;TZID=America/Chicago:20251212T190000
DTEND;TZID=America/Chicago:20251212T210000
DTSTAMP:20260423T172702
CREATED:20251119T232902Z
LAST-MODIFIED:20260127T162357Z
UID:10000259-1765566000-1765573200@degallery.us
SUMMARY:Slavic New Year
DESCRIPTION:Dear Friends\, \nWe warmly invite you to celebrate Slavic New Year traditions with us at DEGALLERY on Friday\, December 12\, beginning at 7:00 PM. \nThis family-friendly evening will blend art\, community\, and beloved Eastern European holiday customs. Please bring your loved ones and enjoy our festive program\, which includes: \n\n\nNew Year Salad Contest – Eastern European StyleWe invite everyone to participate with their favorite traditional salad—Olivier\, “Shuba\,” vinaigrette\, or any creative variation you love. Our guests will serve as the judges\, tasting each dish and voting for their favorite. A special prize awaits the winner. \n\n\nDed Moroz with Gifts for ChildrenContinuing the Slavic New Year tradition\, Ded Moroz will visit with presents for all children. Each child may prepare a short poem or song (one performance per child\, up to two minutes). \n\n\n80s DiscoAn energetic mix of music to keep everyone dancing and to carry the spirit of celebration late into the evening. \n\n\nTickets must be purchased in advance online. Please note that tickets will not be sold at the gallery on the day of the event. The final day to purchase tickets is the morning of December 11. \nTicket Prices: \n\n\nChildren (under 16): $10 — includes a gift \n\n\nAdults: $15 \n\n\nWe look forward to celebrating Slavic New Year with you and sharing a joyful evening of Eastern European flavors\, music\, and holiday traditions. \n  \nДорогие друзья! Мы приглашаем Вас отметить традиционно Новый год Вместе. Наш праздник пройдет в DEGALLERY  12 декабря\, Пятница. Начало праздника в 19.00 \nМы хотим сделать этот праздник веселым и интересным для всех. Приходите всей семьей! В нашей программе: – традиционный конкурс на лучший новогодний салат Мы приглашаем всех желающих принять участие в этом конкурсе. Члены жюри – все наши гости. Каждый сможет попробовать и проголосовать. Победителям приз! – Дед мороз с подарками для всех детей (готовте стих или песню для Деда мороза). Пожалуйста не больше 1 номера и 2 минут на ребенка. –Дискотека 80-х Билеты можно купить заранее онлайн. Билеты в галерее в день мероприятия продаваться не будут. Пожалуйста покупайте билеты заранее. Последний день продажи билетов утро 11 декабря. \nСтоимость: дети (до 16 лет) – $10 (с подарком)\, взрослые – $15
URL:https://degallery.us/events/slavic-new-year/
LOCATION:DEGALLERY\, 930 N Rosemary Dr\, Bryan TX\, Bryan\, TX\, 77802\, United States
CATEGORIES:Events,Main
ATTACH;FMTTYPE=image/jpeg:https://degallery.us/wp-content/uploads/2025/11/НОВЫЙ-ГОД.jpg
ORGANIZER;CN="DEGALLERY":MAILTO:contact@degallery.us
END:VEVENT
END:VCALENDAR